BEGIN:VCALENDAR
VERSION:2.0
PRODID:-//VIMooZ - ECPv6.15.20//NONSGML v1.0//EN
CALSCALE:GREGORIAN
METHOD:PUBLISH
X-WR-CALNAME:VIMooZ
X-ORIGINAL-URL:https://vimooz.com
X-WR-CALDESC:Events for VIMooZ
REFRESH-INTERVAL;VALUE=DURATION:PT1H
X-Robots-Tag:noindex
X-PUBLISHED-TTL:PT1H
BEGIN:VTIMEZONE
TZID:America/New_York
BEGIN:DAYLIGHT
TZOFFSETFROM:-0500
TZOFFSETTO:-0400
TZNAME:EDT
DTSTART:20230312T070000
END:DAYLIGHT
BEGIN:STANDARD
TZOFFSETFROM:-0400
TZOFFSETTO:-0500
TZNAME:EST
DTSTART:20231105T060000
END:STANDARD
BEGIN:DAYLIGHT
TZOFFSETFROM:-0500
TZOFFSETTO:-0400
TZNAME:EDT
DTSTART:20240310T070000
END:DAYLIGHT
BEGIN:STANDARD
TZOFFSETFROM:-0400
TZOFFSETTO:-0500
TZNAME:EST
DTSTART:20241103T060000
END:STANDARD
BEGIN:DAYLIGHT
TZOFFSETFROM:-0500
TZOFFSETTO:-0400
TZNAME:EDT
DTSTART:20250309T070000
END:DAYLIGHT
BEGIN:STANDARD
TZOFFSETFROM:-0400
TZOFFSETTO:-0500
TZNAME:EST
DTSTART:20251102T060000
END:STANDARD
END:VTIMEZONE
BEGIN:VEVENT
DTSTART;VALUE=DATE:20240526
DTEND;VALUE=DATE:20240603
DTSTAMP:20260421T174712
CREATED:20240122T030013Z
LAST-MODIFIED:20240122T030013Z
UID:122262-1716681600-1717372799@vimooz.com
SUMMARY:64th Krakow Film Festival
DESCRIPTION:Read more
URL:https://vimooz.com/calendar/64th-krakow-film-festival/
CATEGORIES:Europe,Film Festival Calendar,Poland
END:VEVENT
BEGIN:VEVENT
DTSTART;VALUE=DATE:20240523
DTEND;VALUE=DATE:20240528
DTSTAMP:20260421T174712
CREATED:20240427T161520Z
LAST-MODIFIED:20240427T161520Z
UID:127187-1716422400-1716854399@vimooz.com
SUMMARY:46th Mountainfilm
DESCRIPTION:Read more
URL:https://vimooz.com/calendar/46th-mountainfilm/
CATEGORIES:Film Festival Calendar,New York,USA
END:VEVENT
BEGIN:VEVENT
DTSTART;VALUE=DATE:20240522
DTEND;VALUE=DATE:20240527
DTSTAMP:20260421T174712
CREATED:20240808T025018Z
LAST-MODIFIED:20240808T025018Z
UID:129266-1716336000-1716767999@vimooz.com
SUMMARY:10th Mammoth Lakes Film Festival
DESCRIPTION:Read more
URL:https://vimooz.com/calendar/10th-mammoth-lakes-film-festival-2/
CATEGORIES:California,Film Festival Calendar,USA
END:VEVENT
BEGIN:VEVENT
DTSTART;VALUE=DATE:20240522
DTEND;VALUE=DATE:20240525
DTSTAMP:20260421T174712
CREATED:20230531T114906Z
LAST-MODIFIED:20230813T215447Z
UID:114346-1716336000-1716595199@vimooz.com
SUMMARY:10th Mammoth Lakes Film Festival
DESCRIPTION:Read more
URL:https://vimooz.com/calendar/10th-mammoth-lakes-film-festival/
CATEGORIES:California,Film Festival Calendar,USA
END:VEVENT
BEGIN:VEVENT
DTSTART;VALUE=DATE:20240516
DTEND;VALUE=DATE:20240527
DTSTAMP:20260421T174712
CREATED:20240530T015521Z
LAST-MODIFIED:20240530T015521Z
UID:128642-1715817600-1716767999@vimooz.com
SUMMARY:19th Harlem Intl Film Festival
DESCRIPTION:Read more
URL:https://vimooz.com/calendar/19th-harlem-intl-film-festival/
CATEGORIES:Film Festival Calendar,New York,USA
END:VEVENT
BEGIN:VEVENT
DTSTART;VALUE=DATE:20240516
DTEND;VALUE=DATE:20240526
DTSTAMP:20260421T174712
CREATED:20240412T152804Z
LAST-MODIFIED:20240412T152804Z
UID:126094-1715817600-1716681599@vimooz.com
SUMMARY:19th Harlem International Film Festival
DESCRIPTION:Read more
URL:https://vimooz.com/calendar/19th-harlem-international-film-festival/
CATEGORIES:Film Festival Calendar,New York,USA
END:VEVENT
BEGIN:VEVENT
DTSTART;VALUE=DATE:20240515
DTEND;VALUE=DATE:20240526
DTSTAMP:20260421T174712
CREATED:20240419T151949Z
LAST-MODIFIED:20240419T151949Z
UID:126505-1715731200-1716681599@vimooz.com
SUMMARY:56th Directors’ Fortnight
DESCRIPTION:Read more
URL:https://vimooz.com/calendar/56th-directors-fortnight/
CATEGORIES:Film Festival Calendar,France
END:VEVENT
BEGIN:VEVENT
DTSTART;VALUE=DATE:20240515
DTEND;VALUE=DATE:20240524
DTSTAMP:20260421T174712
CREATED:20240419T151956Z
LAST-MODIFIED:20240419T151956Z
UID:126443-1715731200-1716508799@vimooz.com
SUMMARY:63rd Cannes Critics' Week (Semaine de la Critique)
DESCRIPTION:Read more
URL:https://vimooz.com/calendar/63rd-cannes-critics-week-semaine-de-la-critique/
CATEGORIES:Film Festival Calendar,France
END:VEVENT
BEGIN:VEVENT
DTSTART;VALUE=DATE:20240515
DTEND;VALUE=DATE:20240520
DTSTAMP:20260421T174712
CREATED:20240424T022826Z
LAST-MODIFIED:20240424T022826Z
UID:126913-1715731200-1716163199@vimooz.com
SUMMARY:21st Archaeology Channel International Film Festival
DESCRIPTION:Read more
URL:https://vimooz.com/calendar/21st-archaeology-channel-international-film-festival/
CATEGORIES:Film Festival Calendar,Oregon,USA
END:VEVENT
BEGIN:VEVENT
DTSTART;VALUE=DATE:20240514
DTEND;VALUE=DATE:20240526
DTSTAMP:20260421T174712
CREATED:20240201T142433Z
LAST-MODIFIED:20240306T040541Z
UID:123847-1715644800-1716681599@vimooz.com
SUMMARY:77th Cannes Film Festival
DESCRIPTION:Read more
URL:https://vimooz.com/calendar/77th-cannes-film-festival-2/
CATEGORIES:Europe,Film Festival Calendar,France
END:VEVENT
BEGIN:VEVENT
DTSTART;VALUE=DATE:20240509
DTEND;VALUE=DATE:20240520
DTSTAMP:20260421T174712
CREATED:20240419T152024Z
LAST-MODIFIED:20240419T152024Z
UID:126250-1715212800-1716163199@vimooz.com
SUMMARY:CAAMFest 2024
DESCRIPTION:Read more
URL:https://vimooz.com/calendar/caamfest-2024/
CATEGORIES:California,Film Festival Calendar,USA
END:VEVENT
BEGIN:VEVENT
DTSTART;VALUE=DATE:20240509
DTEND;VALUE=DATE:20240520
DTSTAMP:20260421T174712
CREATED:20240322T161315Z
LAST-MODIFIED:20240322T161315Z
UID:124796-1715212800-1716163199@vimooz.com
SUMMARY:50th Seattle International Film Festival
DESCRIPTION:Read more
URL:https://vimooz.com/calendar/50th-seattle-international-film-festival/
CATEGORIES:Film Festival Calendar,USA,Washington
END:VEVENT
BEGIN:VEVENT
DTSTART;VALUE=DATE:20240508
DTEND;VALUE=DATE:20240515
DTSTAMP:20260421T174712
CREATED:20240427T161835Z
LAST-MODIFIED:20240427T161835Z
UID:126006-1715126400-1715731199@vimooz.com
SUMMARY:31st New York African Film Festival
DESCRIPTION:Read more
URL:https://vimooz.com/calendar/31st-new-york-african-film-festival/
CATEGORIES:Film Festival Calendar,New York,USA
END:VEVENT
BEGIN:VEVENT
DTSTART;VALUE=DATE:20240506
DTEND;VALUE=DATE:20240512
DTSTAMP:20260421T174712
CREATED:20240322T161320Z
LAST-MODIFIED:20240322T161320Z
UID:124794-1714953600-1715471999@vimooz.com
SUMMARY:2024 GI Film Festival San Diego
DESCRIPTION:Read more
URL:https://vimooz.com/calendar/2024-gi-film-festival-san-diego/
CATEGORIES:Film Festival Calendar,USA,Washington, DC
END:VEVENT
BEGIN:VEVENT
DTSTART;VALUE=DATE:20240505
DTEND;VALUE=DATE:20240513
DTSTAMP:20260421T174712
CREATED:20240427T161907Z
LAST-MODIFIED:20240427T161907Z
UID:125996-1714867200-1715558399@vimooz.com
SUMMARY:2024 Melbourne International Animation Festival
DESCRIPTION:Read more
URL:https://vimooz.com/calendar/2024-melbourne-international-animation-festival/
CATEGORIES:Australia,Film Festival Calendar,Melbourne
END:VEVENT
BEGIN:VEVENT
DTSTART;VALUE=DATE:20240503
DTEND;VALUE=DATE:20240510
DTSTAMP:20260421T174712
CREATED:20240419T151953Z
LAST-MODIFIED:20240419T151953Z
UID:126503-1714694400-1715299199@vimooz.com
SUMMARY:11th Chicago Critics Film Festival
DESCRIPTION:Read more
URL:https://vimooz.com/calendar/11th-chicago-critics-film-festival/
CATEGORIES:Chicago,Film Festival Calendar,USA
END:VEVENT
BEGIN:VEVENT
DTSTART;VALUE=DATE:20240502
DTEND;VALUE=DATE:20240513
DTSTAMP:20260421T174712
CREATED:20240412T153050Z
LAST-MODIFIED:20240412T153050Z
UID:125998-1714608000-1715558399@vimooz.com
SUMMARY:23rd DOXA Documentary Film Festival
DESCRIPTION:Read more
URL:https://vimooz.com/calendar/23rd-doxa-documentary-film-festival/
CATEGORIES:Canada,Film Festival Calendar
END:VEVENT
BEGIN:VEVENT
DTSTART;VALUE=DATE:20240502
DTEND;VALUE=DATE:20240507
DTSTAMP:20260421T174712
CREATED:20240331T232714Z
LAST-MODIFIED:20240331T232714Z
UID:125298-1714608000-1715039999@vimooz.com
SUMMARY:14th Lower East Side Film Festival (“LESFF”)
DESCRIPTION:Read more
URL:https://vimooz.com/calendar/14th-lower-east-side-film-festival-lesff/
CATEGORIES:Film Festival Calendar,New York,USA
END:VEVENT
BEGIN:VEVENT
DTSTART;VALUE=DATE:20240501
DTEND;VALUE=DATE:20240511
DTSTAMP:20260421T174712
CREATED:20240412T152643Z
LAST-MODIFIED:20240412T152643Z
UID:126102-1714521600-1715385599@vimooz.com
SUMMARY:25th JEONJU International Film Festival
DESCRIPTION:Read more
URL:https://vimooz.com/calendar/25th-jeonju-international-film-festival/
CATEGORIES:Film Festival Calendar,South Korea
END:VEVENT
BEGIN:VEVENT
DTSTART;VALUE=DATE:20240501
DTEND;VALUE=DATE:20240509
DTSTAMP:20260421T174712
CREATED:20240317T024840Z
LAST-MODIFIED:20240317T024840Z
UID:124615-1714521600-1715212799@vimooz.com
SUMMARY:2024 IFFBoston (Independent Film Festival Boston)
DESCRIPTION:Read more
URL:https://vimooz.com/calendar/2024-iffboston-independent-film-festival-boston/
CATEGORIES:Film Festival Calendar,Massachusetts,USA
END:VEVENT
BEGIN:VEVENT
DTSTART;VALUE=DATE:20240501
DTEND;VALUE=DATE:20240506
DTSTAMP:20260421T174712
CREATED:20240412T152553Z
LAST-MODIFIED:20240412T152553Z
UID:126109-1714521600-1714953599@vimooz.com
SUMMARY:24th International Beverly Hills Film Festival
DESCRIPTION:Read more
URL:https://vimooz.com/calendar/24th-international-beverly-hills-film-festival/
CATEGORIES:California,Film Festival Calendar,USA
END:VEVENT
BEGIN:VEVENT
DTSTART;VALUE=DATE:20240426
DTEND;VALUE=DATE:20240429
DTSTAMP:20260421T174712
CREATED:20240427T162046Z
LAST-MODIFIED:20240427T162046Z
UID:125429-1714089600-1714348799@vimooz.com
SUMMARY:1st Pueblo Film Festival
DESCRIPTION:Read more
URL:https://vimooz.com/calendar/1st-pueblo-film-festival/
CATEGORIES:Colorado,Film Festival Calendar,USA
END:VEVENT
BEGIN:VEVENT
DTSTART;VALUE=DATE:20240425
DTEND;VALUE=DATE:20240506
DTSTAMP:20260421T174712
CREATED:20240331T232509Z
LAST-MODIFIED:20240331T232509Z
UID:125370-1714003200-1714953599@vimooz.com
SUMMARY:48th Atlanta Film Festival
DESCRIPTION:Read more
URL:https://vimooz.com/calendar/48th-atlanta-film-festival/
CATEGORIES:Film Festival Calendar,Georgia,USA
END:VEVENT
BEGIN:VEVENT
DTSTART;VALUE=DATE:20240425
DTEND;VALUE=DATE:20240506
DTSTAMP:20260421T174712
CREATED:20240331T232154Z
LAST-MODIFIED:20240331T232154Z
UID:125406-1714003200-1714953599@vimooz.com
SUMMARY:31st Hot Docs Film Festival
DESCRIPTION:Read more
URL:https://vimooz.com/calendar/31st-hot-docs-film-festival/
CATEGORIES:Canada
END:VEVENT
BEGIN:VEVENT
DTSTART;VALUE=DATE:20240425
DTEND;VALUE=DATE:20240503
DTSTAMP:20260421T174712
CREATED:20240328T125519Z
LAST-MODIFIED:20240328T125519Z
UID:125104-1714003200-1714694399@vimooz.com
SUMMARY:18th Dallas International Film Festival
DESCRIPTION:Read more
URL:https://vimooz.com/calendar/18th-dallas-international-film-festival/
CATEGORIES:Film Festival Calendar,Texas,USA
END:VEVENT
BEGIN:VEVENT
DTSTART;VALUE=DATE:20240425
DTEND;VALUE=DATE:20240501
DTSTAMP:20260421T174712
CREATED:20240328T125448Z
LAST-MODIFIED:20240328T170141Z
UID:125102-1714003200-1714521599@vimooz.com
SUMMARY:30th San Luis Obispo International Film Festival
DESCRIPTION:Read more
URL:https://vimooz.com/calendar/30th-san-luis-obispo-international-film-festival/
CATEGORIES:California,Film Festival Calendar,USA
END:VEVENT
BEGIN:VEVENT
DTSTART;TZID=America/New_York:20240425T000000
DTEND;TZID=America/New_York:20240428T235959
DTSTAMP:20260421T174712
CREATED:20240427T161612Z
LAST-MODIFIED:20260406T143622Z
UID:126107-1714003200-1714348799@vimooz.com
SUMMARY:21st Seattle Black Film Festival
DESCRIPTION:Read more
URL:https://vimooz.com/calendar/21st-seattle-black-film-festival/
CATEGORIES:Film Festival Calendar,USA,Washington
END:VEVENT
BEGIN:VEVENT
DTSTART;VALUE=DATE:20240425
DTEND;VALUE=DATE:20240429
DTSTAMP:20260421T174712
CREATED:20240331T231928Z
LAST-MODIFIED:20240331T231928Z
UID:125425-1714003200-1714348799@vimooz.com
SUMMARY:24th Santa Fe Film Festival (SFFF)
DESCRIPTION:Read more
URL:https://vimooz.com/calendar/24th-santa-fe-film-festival-sfff/
CATEGORIES:Film Festival Calendar,New Mexico,USA
END:VEVENT
BEGIN:VEVENT
DTSTART;VALUE=DATE:20240425
DTEND;VALUE=DATE:20240429
DTSTAMP:20260421T174712
CREATED:20240328T125523Z
LAST-MODIFIED:20240328T125523Z
UID:125110-1714003200-1714348799@vimooz.com
SUMMARY:19th Sunscreen Film Festival
DESCRIPTION:Read more
URL:https://vimooz.com/calendar/19th-sunscreen-film-festival/
CATEGORIES:Film Festival Calendar,Florida,USA
END:VEVENT
BEGIN:VEVENT
DTSTART;VALUE=DATE:20240425
DTEND;VALUE=DATE:20240428
DTSTAMP:20260421T174712
CREATED:20240427T163555Z
LAST-MODIFIED:20240427T163555Z
UID:125118-1714003200-1714262399@vimooz.com
SUMMARY:2024 Milwaukee Underground Film Festival (MUFF)
DESCRIPTION:Read more
URL:https://vimooz.com/calendar/2024-milwaukee-underground-film-festival-muff/
CATEGORIES:Film Festival Calendar,USA,Wisconsin
END:VEVENT
END:VCALENDAR