BEGIN:VCALENDAR
VERSION:2.0
PRODID:-//VIMooZ - ECPv6.15.20//NONSGML v1.0//EN
CALSCALE:GREGORIAN
METHOD:PUBLISH
X-WR-CALNAME:VIMooZ
X-ORIGINAL-URL:https://vimooz.com
X-WR-CALDESC:Events for VIMooZ
REFRESH-INTERVAL;VALUE=DURATION:PT1H
X-Robots-Tag:noindex
X-PUBLISHED-TTL:PT1H
BEGIN:VTIMEZONE
TZID:America/New_York
BEGIN:DAYLIGHT
TZOFFSETFROM:-0500
TZOFFSETTO:-0400
TZNAME:EDT
DTSTART:20240310T070000
END:DAYLIGHT
BEGIN:STANDARD
TZOFFSETFROM:-0400
TZOFFSETTO:-0500
TZNAME:EST
DTSTART:20241103T060000
END:STANDARD
BEGIN:DAYLIGHT
TZOFFSETFROM:-0500
TZOFFSETTO:-0400
TZNAME:EDT
DTSTART:20250309T070000
END:DAYLIGHT
BEGIN:STANDARD
TZOFFSETFROM:-0400
TZOFFSETTO:-0500
TZNAME:EST
DTSTART:20251102T060000
END:STANDARD
BEGIN:DAYLIGHT
TZOFFSETFROM:-0500
TZOFFSETTO:-0400
TZNAME:EDT
DTSTART:20260308T070000
END:DAYLIGHT
BEGIN:STANDARD
TZOFFSETFROM:-0400
TZOFFSETTO:-0500
TZNAME:EST
DTSTART:20261101T060000
END:STANDARD
END:VTIMEZONE
BEGIN:VEVENT
DTSTART;TZID=America/New_York:20251105T000000
DTEND;TZID=America/New_York:20251109T235959
DTSTAMP:20260421T055948
CREATED:20251008T112325Z
LAST-MODIFIED:20251008T112325Z
UID:152337-1762300800-1762732799@vimooz.com
SUMMARY:10th Coronado Island Film Festival
DESCRIPTION:Read more
URL:https://vimooz.com/calendar/10th-coronado-island-film-festival/
CATEGORIES:Film Festival Calendar,USA
END:VEVENT
BEGIN:VEVENT
DTSTART;TZID=America/New_York:20251031T000000
DTEND;TZID=America/New_York:20251109T235959
DTSTAMP:20260421T055948
CREATED:20251008T111526Z
LAST-MODIFIED:20251008T111526Z
UID:152325-1761868800-1762732799@vimooz.com
SUMMARY:48th Denver Film Festival
DESCRIPTION:Read more
URL:https://vimooz.com/calendar/48th-denver-film-festival/
CATEGORIES:Film Festival Calendar,USA
END:VEVENT
BEGIN:VEVENT
DTSTART;TZID=America/New_York:20251031T000000
DTEND;TZID=America/New_York:20251102T235959
DTSTAMP:20260421T055948
CREATED:20251010T155332Z
LAST-MODIFIED:20251010T155332Z
UID:152483-1761868800-1762127999@vimooz.com
SUMMARY:19th Rockport Film Festival
DESCRIPTION:Read more
URL:https://vimooz.com/calendar/19th-rockport-film-festival/
CATEGORIES:Film Festival Calendar,USA
END:VEVENT
BEGIN:VEVENT
DTSTART;TZID=America/New_York:20251029T000000
DTEND;TZID=America/New_York:20251105T235959
DTSTAMP:20260421T055948
CREATED:20251004T115120Z
LAST-MODIFIED:20251004T115120Z
UID:152178-1761696000-1762387199@vimooz.com
SUMMARY:Miami Film Festival GEMS 2025
DESCRIPTION:Read more
URL:https://vimooz.com/calendar/miami-film-festival-gems-2025/
CATEGORIES:Film Festival Calendar,USA
END:VEVENT
BEGIN:VEVENT
DTSTART;TZID=America/New_York:20251028T000000
DTEND;TZID=America/New_York:20251103T235959
DTSTAMP:20260421T055948
CREATED:20251004T114150Z
LAST-MODIFIED:20251004T114150Z
UID:152162-1761609600-1762214399@vimooz.com
SUMMARY:29th The American French Film Festival
DESCRIPTION:Read more
URL:https://vimooz.com/calendar/29th-the-american-french-film-festival/
CATEGORIES:Film Festival Calendar,USA
END:VEVENT
BEGIN:VEVENT
DTSTART;TZID=America/New_York:20251027T000000
DTEND;TZID=America/New_York:20251105T235959
DTSTAMP:20260421T055948
CREATED:20251004T115222Z
LAST-MODIFIED:20251004T115222Z
UID:152180-1761523200-1762387199@vimooz.com
SUMMARY:38th Tokyo International Film Festival
DESCRIPTION:Read more
URL:https://vimooz.com/calendar/38th-tokyo-international-film-festival/
CATEGORIES:Film Festival Calendar
END:VEVENT
BEGIN:VEVENT
DTSTART;TZID=America/New_York:20251025T000000
DTEND;TZID=America/New_York:20251101T235959
DTSTAMP:20260421T055948
CREATED:20251008T111757Z
LAST-MODIFIED:20251008T111757Z
UID:152331-1761350400-1762041599@vimooz.com
SUMMARY:2025 SCAD Savannah Film Festival
DESCRIPTION:Read more
URL:https://vimooz.com/calendar/2025-scad-savannah-film-festival/
CATEGORIES:Film Festival Calendar,USA
END:VEVENT
BEGIN:VEVENT
DTSTART;TZID=America/New_York:20251024T000000
DTEND;TZID=America/New_York:20251030T235959
DTSTAMP:20260421T055948
CREATED:20251017T143313Z
LAST-MODIFIED:20251017T143313Z
UID:152795-1761264000-1761868799@vimooz.com
SUMMARY:2025 Green Film Festival of San Francisco
DESCRIPTION:Read more
URL:https://vimooz.com/calendar/2025-green-film-festival-of-san-francisco/
CATEGORIES:Film Festival Calendar,USA
END:VEVENT
BEGIN:VEVENT
DTSTART;TZID=America/New_York:20251023T000000
DTEND;TZID=America/New_York:20251030T235959
DTSTAMP:20260421T055948
CREATED:20251004T114103Z
LAST-MODIFIED:20251004T114103Z
UID:152160-1761177600-1761868799@vimooz.com
SUMMARY:32nd Austin Film Festival
DESCRIPTION:Read more
URL:https://vimooz.com/calendar/32nd-austin-film-festival/
CATEGORIES:Film Festival Calendar,USA
END:VEVENT
BEGIN:VEVENT
DTSTART;TZID=America/New_York:20251023T000000
DTEND;TZID=America/New_York:20251028T235959
DTSTAMP:20260421T055948
CREATED:20251010T160130Z
LAST-MODIFIED:20251010T160130Z
UID:152490-1761177600-1761695999@vimooz.com
SUMMARY:14th Dominican Film Festival in New York City (DFFNYC)
DESCRIPTION:Read more
URL:https://vimooz.com/calendar/14th-dominican-film-festival-in-new-york-city-dffnyc/
CATEGORIES:Film Festival Calendar,USA
END:VEVENT
BEGIN:VEVENT
DTSTART;TZID=America/New_York:20251023T000000
DTEND;TZID=America/New_York:20251027T235959
DTSTAMP:20260421T055948
CREATED:20251004T113501Z
LAST-MODIFIED:20251004T113501Z
UID:152146-1761177600-1761609599@vimooz.com
SUMMARY:36th New Orleans Film Festival
DESCRIPTION:Read more
URL:https://vimooz.com/calendar/36th-new-orleans-film-festival/
CATEGORIES:Film Festival Calendar,USA
END:VEVENT
BEGIN:VEVENT
DTSTART;TZID=America/New_York:20251023T000000
DTEND;TZID=America/New_York:20251026T235959
DTSTAMP:20260421T055948
CREATED:20251008T112421Z
LAST-MODIFIED:20251008T112421Z
UID:152339-1761177600-1761523199@vimooz.com
SUMMARY:7th Micheaux Film Festival
DESCRIPTION:Read more
URL:https://vimooz.com/calendar/7th-micheaux-film-festival/
CATEGORIES:Film Festival Calendar
END:VEVENT
BEGIN:VEVENT
DTSTART;TZID=America/New_York:20251022T000000
DTEND;TZID=America/New_York:20251026T235959
DTSTAMP:20260421T055948
CREATED:20251004T115030Z
LAST-MODIFIED:20260203T140006Z
UID:152176-1761091200-1761523199@vimooz.com
SUMMARY:39th AFI FEST 2025
DESCRIPTION:Read more
URL:https://vimooz.com/calendar/afi-fest-2025/
CATEGORIES:Film Festival Calendar,USA
END:VEVENT
BEGIN:VEVENT
DTSTART;TZID=America/New_York:20251022T000000
DTEND;TZID=America/New_York:20251026T235959
DTSTAMP:20260421T055948
CREATED:20251004T113644Z
LAST-MODIFIED:20251004T113644Z
UID:152150-1761091200-1761523199@vimooz.com
SUMMARY:38th Virginia Film Festival
DESCRIPTION:Read more
URL:https://vimooz.com/calendar/38th-virginia-film-festival/
CATEGORIES:Film Festival Calendar,USA
END:VEVENT
BEGIN:VEVENT
DTSTART;TZID=America/New_York:20251020T000000
DTEND;TZID=America/New_York:20251106T235959
DTSTAMP:20260421T055948
CREATED:20251004T113821Z
LAST-MODIFIED:20251004T113821Z
UID:152154-1760918400-1762473599@vimooz.com
SUMMARY:15th Gold Coast International Film Festival
DESCRIPTION:Read more
URL:https://vimooz.com/calendar/15th-gold-coast-international-film-festival/
CATEGORIES:Film Festival Calendar,USA
END:VEVENT
BEGIN:VEVENT
DTSTART;TZID=America/New_York:20251017T000000
DTEND;TZID=America/New_York:20251026T235959
DTSTAMP:20260421T055948
CREATED:20251004T114234Z
LAST-MODIFIED:20251010T160800Z
UID:152164-1760659200-1761523199@vimooz.com
SUMMARY:14th Montclair Film Festival
DESCRIPTION:Read more
URL:https://vimooz.com/calendar/2025-montclair-film-festival/
CATEGORIES:Film Festival Calendar,USA
END:VEVENT
BEGIN:VEVENT
DTSTART;TZID=America/New_York:20251016T000000
DTEND;TZID=America/New_York:20251026T235959
DTSTAMP:20260421T055948
CREATED:20251017T143501Z
LAST-MODIFIED:20251017T143501Z
UID:152799-1760572800-1761523199@vimooz.com
SUMMARY:34th Philadelphia Film Festival
DESCRIPTION:Read more
URL:https://vimooz.com/calendar/34th-philadelphia-film-festival/
CATEGORIES:Film Festival Calendar,Film Release Calendar
END:VEVENT
BEGIN:VEVENT
DTSTART;TZID=America/New_York:20251016T000000
DTEND;TZID=America/New_York:20251026T235959
DTSTAMP:20260421T055948
CREATED:20251017T142724Z
LAST-MODIFIED:20251017T142724Z
UID:152787-1760572800-1761523199@vimooz.com
SUMMARY:45th Hawaii International Film Festival
DESCRIPTION:Read more
URL:https://vimooz.com/calendar/45th-hawaii-international-film-festival/
CATEGORIES:Film Festival Calendar,USA
END:VEVENT
BEGIN:VEVENT
DTSTART;TZID=America/New_York:20251016T000000
DTEND;TZID=America/New_York:20251025T235959
DTSTAMP:20260421T055948
CREATED:20251017T143216Z
LAST-MODIFIED:20251017T143216Z
UID:152793-1760572800-1761436799@vimooz.com
SUMMARY:16th Twin Cities Film Festival
DESCRIPTION:Read more
URL:https://vimooz.com/calendar/16th-twin-cities-film-festival/
CATEGORIES:Film Festival Calendar,USA
END:VEVENT
BEGIN:VEVENT
DTSTART;TZID=America/New_York:20251016T000000
DTEND;TZID=America/New_York:20251023T235959
DTSTAMP:20260421T055948
CREATED:20251004T113600Z
LAST-MODIFIED:20251004T113600Z
UID:152148-1760572800-1761263999@vimooz.com
SUMMARY:26th Newport Beach Film Festival
DESCRIPTION:Read more
URL:https://vimooz.com/calendar/26th-newport-beach-film-festival/
CATEGORIES:Film Festival Calendar,USA
END:VEVENT
BEGIN:VEVENT
DTSTART;TZID=America/New_York:20251016T000000
DTEND;TZID=America/New_York:20251019T235959
DTSTAMP:20260421T055948
CREATED:20251017T143631Z
LAST-MODIFIED:20251017T143631Z
UID:152801-1760572800-1760918399@vimooz.com
SUMMARY:23rd New Hampshire Film Festival
DESCRIPTION:Read more
URL:https://vimooz.com/calendar/23rd-new-hampshire-film-festival/
CATEGORIES:Film Festival Calendar,USA
END:VEVENT
BEGIN:VEVENT
DTSTART;TZID=America/New_York:20251016T000000
DTEND;TZID=America/New_York:20251019T235959
DTSTAMP:20260421T055948
CREATED:20251010T154909Z
LAST-MODIFIED:20251010T154909Z
UID:152475-1760572800-1760918399@vimooz.com
SUMMARY:21st LA Femme International Film Festival
DESCRIPTION:Read more
URL:https://vimooz.com/calendar/21st-la-femme-international-film-festival/
CATEGORIES:Film Festival Calendar,USA
END:VEVENT
BEGIN:VEVENT
DTSTART;TZID=America/New_York:20251016T000000
DTEND;TZID=America/New_York:20251019T235959
DTSTAMP:20260421T055948
CREATED:20251004T115419Z
LAST-MODIFIED:20251004T115501Z
UID:152184-1760572800-1760918399@vimooz.com
SUMMARY:10th Nightmares Film Festival
DESCRIPTION:Read more
URL:https://vimooz.com/calendar/10th-nightmares-film-festival/
CATEGORIES:Film Festival Calendar,USA
END:VEVENT
BEGIN:VEVENT
DTSTART;TZID=America/New_York:20251016T000000
DTEND;TZID=America/New_York:20251018T235959
DTSTAMP:20260421T055948
CREATED:20251004T113726Z
LAST-MODIFIED:20251004T113726Z
UID:152152-1760572800-1760831999@vimooz.com
SUMMARY:25th aluCine Latin Film + Media Arts Festival
DESCRIPTION:Read more
URL:https://vimooz.com/calendar/25th-alucine-latin-film-media-arts-festival/
CATEGORIES:Film Festival Calendar,USA
END:VEVENT
BEGIN:VEVENT
DTSTART;TZID=America/New_York:20251015T000000
DTEND;TZID=America/New_York:20251026T235959
DTSTAMP:20260421T055948
CREATED:20251008T111442Z
LAST-MODIFIED:20251008T111442Z
UID:152323-1760486400-1761523199@vimooz.com
SUMMARY:61st Chicago International Film Festival
DESCRIPTION:Read more
URL:https://vimooz.com/calendar/61st-chicago-international-film-festival/
CATEGORIES:Film Festival Calendar,USA
END:VEVENT
BEGIN:VEVENT
DTSTART;TZID=America/New_York:20251015T000000
DTEND;TZID=America/New_York:20251026T235959
DTSTAMP:20260421T055948
CREATED:20251004T114755Z
LAST-MODIFIED:20251004T114755Z
UID:152172-1760486400-1761523199@vimooz.com
SUMMARY:2025 Adelaide Film Festival
DESCRIPTION:Read more
URL:https://vimooz.com/calendar/2025-adelaide-film-festival/
CATEGORIES:Film Festival Calendar
END:VEVENT
BEGIN:VEVENT
DTSTART;TZID=America/New_York:20251015T000000
DTEND;TZID=America/New_York:20251019T235959
DTSTAMP:20260421T055948
CREATED:20251010T160046Z
LAST-MODIFIED:20251010T160046Z
UID:152488-1760486400-1760918399@vimooz.com
SUMMARY:13th Chelsea Film Festival
DESCRIPTION:Read more
URL:https://vimooz.com/calendar/13th-chelsea-film-festival/
CATEGORIES:Film Festival Calendar,USA
END:VEVENT
BEGIN:VEVENT
DTSTART;TZID=America/New_York:20251015T000000
DTEND;TZID=America/New_York:20251018T235959
DTSTAMP:20260421T055948
CREATED:20251004T114020Z
LAST-MODIFIED:20251004T114020Z
UID:152158-1760486400-1760831999@vimooz.com
SUMMARY:16th Eastern Oregon Film Festival
DESCRIPTION:Read more
URL:https://vimooz.com/calendar/16th-eastern-oregon-film-festival/
CATEGORIES:Film Festival Calendar,USA
END:VEVENT
BEGIN:VEVENT
DTSTART;TZID=America/New_York:20251012T000000
DTEND;TZID=America/New_York:20251020T235959
DTSTAMP:20260421T055948
CREATED:20251017T143119Z
LAST-MODIFIED:20251017T143119Z
UID:152791-1760227200-1761004799@vimooz.com
SUMMARY:16th DOC NYC
DESCRIPTION:Read more
URL:https://vimooz.com/calendar/16th-doc-nyc/
CATEGORIES:Film Festival Calendar,USA
END:VEVENT
BEGIN:VEVENT
DTSTART;TZID=America/New_York:20251011T000000
DTEND;TZID=America/New_York:20251011T235959
DTSTAMP:20260421T055948
CREATED:20251010T155030Z
LAST-MODIFIED:20251010T155030Z
UID:152479-1760140800-1760227199@vimooz.com
SUMMARY:19th Wild and Scenic Film Festival
DESCRIPTION:Read more
URL:https://vimooz.com/calendar/19th-wild-and-scenic-film-festival/
CATEGORIES:Film Festival Calendar,USA
END:VEVENT
END:VCALENDAR