BEGIN:VCALENDAR
VERSION:2.0
PRODID:-//VIMooZ - ECPv6.15.20//NONSGML v1.0//EN
CALSCALE:GREGORIAN
METHOD:PUBLISH
X-WR-CALNAME:VIMooZ
X-ORIGINAL-URL:https://vimooz.com
X-WR-CALDESC:Events for VIMooZ
REFRESH-INTERVAL;VALUE=DURATION:PT1H
X-Robots-Tag:noindex
X-PUBLISHED-TTL:PT1H
BEGIN:VTIMEZONE
TZID:America/New_York
BEGIN:DAYLIGHT
TZOFFSETFROM:-0500
TZOFFSETTO:-0400
TZNAME:EDT
DTSTART:20230312T070000
END:DAYLIGHT
BEGIN:STANDARD
TZOFFSETFROM:-0400
TZOFFSETTO:-0500
TZNAME:EST
DTSTART:20231105T060000
END:STANDARD
BEGIN:DAYLIGHT
TZOFFSETFROM:-0500
TZOFFSETTO:-0400
TZNAME:EDT
DTSTART:20240310T070000
END:DAYLIGHT
BEGIN:STANDARD
TZOFFSETFROM:-0400
TZOFFSETTO:-0500
TZNAME:EST
DTSTART:20241103T060000
END:STANDARD
BEGIN:DAYLIGHT
TZOFFSETFROM:-0500
TZOFFSETTO:-0400
TZNAME:EDT
DTSTART:20250309T070000
END:DAYLIGHT
BEGIN:STANDARD
TZOFFSETFROM:-0400
TZOFFSETTO:-0500
TZNAME:EST
DTSTART:20251102T060000
END:STANDARD
BEGIN:DAYLIGHT
TZOFFSETFROM:-0500
TZOFFSETTO:-0400
TZNAME:EDT
DTSTART:20260308T070000
END:DAYLIGHT
BEGIN:STANDARD
TZOFFSETFROM:-0400
TZOFFSETTO:-0500
TZNAME:EST
DTSTART:20261101T060000
END:STANDARD
END:VTIMEZONE
BEGIN:VEVENT
DTSTART;VALUE=DATE:20250220
DTEND;VALUE=DATE:20250227
DTSTAMP:20260421T091915
CREATED:20241025T200357Z
LAST-MODIFIED:20241029T181820Z
UID:138520-1740009600-1740614399@vimooz.com
SUMMARY:31st Slamdance Film Festival
DESCRIPTION:Read more
URL:https://vimooz.com/calendar/31st-slamdance-film-festival/
CATEGORIES:Film Festival Calendar
END:VEVENT
BEGIN:VEVENT
DTSTART;VALUE=DATE:20250218
DTEND;VALUE=DATE:20250224
DTSTAMP:20260421T091915
CREATED:20241231T170347Z
LAST-MODIFIED:20241231T170347Z
UID:141888-1739836800-1740355199@vimooz.com
SUMMARY:19th Beaufort International Film Festival
DESCRIPTION:Read more
URL:https://vimooz.com/calendar/19th-beaufort-international-film-festival/
CATEGORIES:Film Festival Calendar
END:VEVENT
BEGIN:VEVENT
DTSTART;VALUE=DATE:20250214
DTEND;VALUE=DATE:20250224
DTSTAMP:20260421T091915
CREATED:20241104T201928Z
LAST-MODIFIED:20241104T201928Z
UID:139195-1739491200-1740355199@vimooz.com
SUMMARY:22nd Big Sky Documentary Film Festival
DESCRIPTION:Read more
URL:https://vimooz.com/calendar/22nd-big-sky-documentary-film-festival/
CATEGORIES:Film Festival Calendar
END:VEVENT
BEGIN:VEVENT
DTSTART;VALUE=DATE:20250213
DTEND;VALUE=DATE:20250224
DTSTAMP:20260421T091915
CREATED:20240317T025357Z
LAST-MODIFIED:20241029T181827Z
UID:124421-1739404800-1740355199@vimooz.com
SUMMARY:75th Berlin International Film Festival
DESCRIPTION:Read more
URL:https://vimooz.com/calendar/75th-berlin-international-film-festival/
CATEGORIES:Europe,Film Festival Calendar,Germany
END:VEVENT
BEGIN:VEVENT
DTSTART;VALUE=DATE:20250212
DTEND;VALUE=DATE:20250218
DTSTAMP:20260421T091915
CREATED:20240419T152014Z
LAST-MODIFIED:20241029T181835Z
UID:126391-1739318400-1739836799@vimooz.com
SUMMARY:21st Dam Short Film Festival
DESCRIPTION:Read more
URL:https://vimooz.com/calendar/21st-dam-short-film-festival/
CATEGORIES:Film Festival Calendar,Nevada,USA
END:VEVENT
BEGIN:VEVENT
DTSTART;VALUE=DATE:20250205
DTEND;VALUE=DATE:20250212
DTSTAMP:20260421T091915
CREATED:20241030T194347Z
LAST-MODIFIED:20241030T194347Z
UID:138947-1738713600-1739318399@vimooz.com
SUMMARY:26th Ismailia International Film Festival
DESCRIPTION:Read more
URL:https://vimooz.com/calendar/26th-ismailia-international-film-festival/
CATEGORIES:Film Festival Calendar
END:VEVENT
BEGIN:VEVENT
DTSTART;VALUE=DATE:20250204
DTEND;VALUE=DATE:20250216
DTSTAMP:20260421T091915
CREATED:20240412T152541Z
LAST-MODIFIED:20241029T181856Z
UID:126199-1738627200-1739663999@vimooz.com
SUMMARY:40th Santa Barbara International Film Festival
DESCRIPTION:Read more
URL:https://vimooz.com/calendar/40th-santa-barbara-international-film-festival/
CATEGORIES:California,Film Festival Calendar,United Arab Emirates
END:VEVENT
BEGIN:VEVENT
DTSTART;VALUE=DATE:20250204
DTEND;VALUE=DATE:20250205
DTSTAMP:20260421T091915
CREATED:20240424T022939Z
LAST-MODIFIED:20241029T181908Z
UID:126742-1738627200-1738713599@vimooz.com
SUMMARY:33rd Pan African Film and Arts Festival (PAFF)
DESCRIPTION:Read more
URL:https://vimooz.com/calendar/33rd-pan-african-film-and-arts-festival-paff/
CATEGORIES:California,Film Festival Calendar,USA
END:VEVENT
BEGIN:VEVENT
DTSTART;VALUE=DATE:20250130
DTEND;VALUE=DATE:20250210
DTSTAMP:20260421T091915
CREATED:20240419T152020Z
LAST-MODIFIED:20241029T181940Z
UID:126384-1738195200-1739145599@vimooz.com
SUMMARY:54th International Film Festival Rotterdam (IFFR)
DESCRIPTION:Read more
URL:https://vimooz.com/calendar/54th-international-film-festival-rotterdam-iffr/
CATEGORIES:Film Festival Calendar,Netherlands
END:VEVENT
BEGIN:VEVENT
DTSTART;VALUE=DATE:20250123
DTEND;VALUE=DATE:20250203
DTSTAMP:20260421T091915
CREATED:20240322T161558Z
LAST-MODIFIED:20241223T150643Z
UID:124788-1737590400-1738540799@vimooz.com
SUMMARY:41st Sundance Film Festival
DESCRIPTION:Read more
URL:https://vimooz.com/calendar/41st-sundance-film-festival/
CATEGORIES:Film Festival Calendar,USA,Utah
END:VEVENT
BEGIN:VEVENT
DTSTART;VALUE=DATE:20250102
DTEND;VALUE=DATE:20250114
DTSTAMP:20260421T091915
CREATED:20240406T144504Z
LAST-MODIFIED:20240406T144504Z
UID:125702-1735776000-1736812799@vimooz.com
SUMMARY:36th Palm Springs International Film Festival
DESCRIPTION:Read more
URL:https://vimooz.com/calendar/36th-palm-springs-international-film-festival/
CATEGORIES:California,Film Festival Calendar,USA
END:VEVENT
BEGIN:VEVENT
DTSTART;VALUE=DATE:20241225
DTEND;VALUE=DATE:20250108
DTSTAMP:20260421T091915
CREATED:20240412T152652Z
LAST-MODIFIED:20240412T152652Z
UID:126098-1735084800-1736294399@vimooz.com
SUMMARY:50th Metro Manila Film Festival
DESCRIPTION:Read more
URL:https://vimooz.com/calendar/50th-metro-manila-film-festival/
CATEGORIES:Film Festival Calendar,Philippines
END:VEVENT
BEGIN:VEVENT
DTSTART;VALUE=DATE:20241212
DTEND;VALUE=DATE:20241215
DTSTAMP:20260421T091915
CREATED:20241010T015412Z
LAST-MODIFIED:20241010T015412Z
UID:137636-1733961600-1734220799@vimooz.com
SUMMARY:25th Sound Unseen Film + Music Festival (Austin)
DESCRIPTION:Read more
URL:https://vimooz.com/calendar/25th-sound-unseen-film-music-festival-austin/
CATEGORIES:Film Festival Calendar
END:VEVENT
BEGIN:VEVENT
DTSTART;VALUE=DATE:20241206
DTEND;VALUE=DATE:20241218
DTSTAMP:20260421T091915
CREATED:20241115T112453Z
LAST-MODIFIED:20241115T112453Z
UID:139701-1733443200-1734479999@vimooz.com
SUMMARY:21st Another Hole in the Head Film Festival
DESCRIPTION:Read more
URL:https://vimooz.com/calendar/21st-another-hole-in-the-head-film-festival/
CATEGORIES:Film Festival Calendar
END:VEVENT
BEGIN:VEVENT
DTSTART;VALUE=DATE:20241206
DTEND;VALUE=DATE:20241216
DTSTAMP:20260421T091915
CREATED:20241023T110217Z
LAST-MODIFIED:20241023T110217Z
UID:138310-1733443200-1734307199@vimooz.com
SUMMARY:24th Anchorage International Film Festival (AIFF)
DESCRIPTION:Read more
URL:https://vimooz.com/calendar/24th-anchorage-international-film-festival-aiff/
CATEGORIES:Film Festival Calendar
END:VEVENT
BEGIN:VEVENT
DTSTART;VALUE=DATE:20241205
DTEND;VALUE=DATE:20241215
DTSTAMP:20260421T091915
CREATED:20241025T200201Z
LAST-MODIFIED:20241025T200201Z
UID:138562-1733356800-1734220799@vimooz.com
SUMMARY:4th Red Sea International Film Festival (Red Sea IFF)
DESCRIPTION:Read more
URL:https://vimooz.com/calendar/4th-red-sea-international-film-festival-red-sea-iff/
CATEGORIES:Film Festival Calendar
END:VEVENT
BEGIN:VEVENT
DTSTART;VALUE=DATE:20241205
DTEND;VALUE=DATE:20241215
DTSTAMP:20260421T091915
CREATED:20240328T125528Z
LAST-MODIFIED:20240328T125528Z
UID:125098-1733356800-1734220799@vimooz.com
SUMMARY:4th Red Sea International Film Festival (RSIFF)
DESCRIPTION:Read more
URL:https://vimooz.com/calendar/4th-red-sea-international-film-festival-rsiff/
CATEGORIES:Film Festival Calendar,Saudi Arabia
END:VEVENT
BEGIN:VEVENT
DTSTART;VALUE=DATE:20241205
DTEND;VALUE=DATE:20241209
DTSTAMP:20260421T091915
CREATED:20241010T015303Z
LAST-MODIFIED:20241010T015303Z
UID:137634-1733356800-1733702399@vimooz.com
SUMMARY:25th Sound Unseen Film + Music Festival (Rochester)
DESCRIPTION:Read more
URL:https://vimooz.com/calendar/25th-sound-unseen-film-music-festival-rochester/
CATEGORIES:Film Festival Calendar
END:VEVENT
BEGIN:VEVENT
DTSTART;VALUE=DATE:20241204
DTEND;VALUE=DATE:20241209
DTSTAMP:20260421T091915
CREATED:20241029T182700Z
LAST-MODIFIED:20241029T182700Z
UID:138771-1733270400-1733702399@vimooz.com
SUMMARY:21st Whistler Film Festival (WFF)
DESCRIPTION:Read more
URL:https://vimooz.com/calendar/21st-whistler-film-festival-wff/
CATEGORIES:Film Festival Calendar
END:VEVENT
BEGIN:VEVENT
DTSTART;VALUE=DATE:20241129
DTEND;VALUE=DATE:20241208
DTSTAMP:20260421T091915
CREATED:20241025T200309Z
LAST-MODIFIED:20241025T200309Z
UID:138546-1732838400-1733615999@vimooz.com
SUMMARY:21st Marrakech International Film Festival
DESCRIPTION:Read more
URL:https://vimooz.com/calendar/21st-marrakech-international-film-festival/
CATEGORIES:Film Festival Calendar
END:VEVENT
BEGIN:VEVENT
DTSTART;VALUE=DATE:20241128
DTEND;VALUE=DATE:20241209
DTSTAMP:20260421T091915
CREATED:20241029T182547Z
LAST-MODIFIED:20241029T182547Z
UID:138766-1732752000-1733702399@vimooz.com
SUMMARY:35th Singapore International Film Festival
DESCRIPTION:Read more
URL:https://vimooz.com/calendar/35th-singapore-international-film-festival/
CATEGORIES:Film Festival Calendar
END:VEVENT
BEGIN:VEVENT
DTSTART;TZID=America/New_York:20241127T000000
DTEND;TZID=America/New_York:20241127T235959
DTSTAMP:20260421T091915
CREATED:20241022T133658Z
LAST-MODIFIED:20260406T143519Z
UID:138071-1732665600-1732751999@vimooz.com
SUMMARY:The Seed of the Sacred Fig (in Theaters - US)
DESCRIPTION:Read more
URL:https://vimooz.com/calendar/the-seed-of-the-sacred-fig-in-theaters-us/
CATEGORIES:Film Release Calendar,USA
ATTACH;FMTTYPE=image/jpeg:https://images.vimooz.com/wp-content/uploads/2024/10/08074804/The-Seed-of-The-Sacred-Fig.jpg
END:VEVENT
BEGIN:VEVENT
DTSTART;TZID=America/New_York:20241122T000000
DTEND;TZID=America/New_York:20241122T235959
DTSTAMP:20260421T091915
CREATED:20241007T172205Z
LAST-MODIFIED:20260406T143513Z
UID:137116-1732233600-1732319999@vimooz.com
SUMMARY:Blitz (Apple TV+)
DESCRIPTION:Read more
URL:https://vimooz.com/calendar/blitz-apple-tv/
CATEGORIES:Film Release Calendar,USA
ATTACH;FMTTYPE=image/jpeg:https://images.vimooz.com/wp-content/uploads/2024/09/20103443/blitz-steve-mcqueen.jpg
END:VEVENT
BEGIN:VEVENT
DTSTART;VALUE=DATE:20241118
DTEND;VALUE=DATE:20241213
DTSTAMP:20260421T091915
CREATED:20241029T182830Z
LAST-MODIFIED:20241029T182830Z
UID:138611-1731888000-1734047999@vimooz.com
SUMMARY:2024 Big Apple Film Festival and Screenplay Competition
DESCRIPTION:Read more
URL:https://vimooz.com/calendar/2024-big-apple-film-festival-and-screenplay-competition/
CATEGORIES:Film Festival Calendar
END:VEVENT
BEGIN:VEVENT
DTSTART;VALUE=DATE:20241116
DTEND;VALUE=DATE:20241117
DTSTAMP:20260421T091915
CREATED:20241025T200238Z
LAST-MODIFIED:20241025T200238Z
UID:138555-1731715200-1731801599@vimooz.com
SUMMARY:32nd Camerimage Film Festival
DESCRIPTION:Read more
URL:https://vimooz.com/calendar/32nd-camerimage-film-festival/
CATEGORIES:Film Festival Calendar
END:VEVENT
BEGIN:VEVENT
DTSTART;VALUE=DATE:20241115
DTEND;VALUE=DATE:20241122
DTSTAMP:20260421T091915
CREATED:20241025T200639Z
LAST-MODIFIED:20241025T200639Z
UID:138442-1731628800-1732233599@vimooz.com
SUMMARY:25th Rutgers Jewish Film Festival (virtually)
DESCRIPTION:Read more
URL:https://vimooz.com/calendar/25th-rutgers-jewish-film-festival-virtually/
CATEGORIES:Film Festival Calendar
END:VEVENT
BEGIN:VEVENT
DTSTART;VALUE=DATE:20241114
DTEND;VALUE=DATE:20241129
DTSTAMP:20260421T091915
CREATED:20241029T182327Z
LAST-MODIFIED:20241029T182327Z
UID:138774-1731542400-1732838399@vimooz.com
SUMMARY:27th Cinematheque European Union Film Festival
DESCRIPTION:Read more
URL:https://vimooz.com/calendar/27th-cinematheque-european-union-film-festival/
CATEGORIES:Film Festival Calendar
END:VEVENT
BEGIN:VEVENT
DTSTART;VALUE=DATE:20241114
DTEND;VALUE=DATE:20241125
DTSTAMP:20260421T091915
CREATED:20241015T145251Z
LAST-MODIFIED:20241015T145251Z
UID:137862-1731542400-1732492799@vimooz.com
SUMMARY:37th International Documentary Film Festival Amsterdam (IDFA)
DESCRIPTION:Read more
URL:https://vimooz.com/calendar/37th-international-documentary-film-festival-amsterdam-idfa/
CATEGORIES:Film Festival Calendar
END:VEVENT
BEGIN:VEVENT
DTSTART;TZID=America/New_York:20241113T080000
DTEND;TZID=America/New_York:20241121T170000
DTSTAMP:20260421T091915
CREATED:20241011T030605Z
LAST-MODIFIED:20241011T030605Z
UID:137697-1731484800-1732208400@vimooz.com
SUMMARY:15th DOC NYC
DESCRIPTION:Read more
URL:https://vimooz.com/calendar/15th-doc-nyc/
CATEGORIES:Film Festival Calendar
END:VEVENT
BEGIN:VEVENT
DTSTART;VALUE=DATE:20241113
DTEND;VALUE=DATE:20241127
DTSTAMP:20260421T091915
CREATED:20241029T182542Z
LAST-MODIFIED:20241029T182542Z
UID:138769-1731456000-1732665599@vimooz.com
SUMMARY:36th Israel Film Festival in Los Angeles
DESCRIPTION:Read more
URL:https://vimooz.com/calendar/36th-israel-film-festival-in-los-angeles/
CATEGORIES:Film Festival Calendar
END:VEVENT
END:VCALENDAR