BEGIN:VCALENDAR
VERSION:2.0
PRODID:-//VIMooZ - ECPv6.15.20//NONSGML v1.0//EN
CALSCALE:GREGORIAN
METHOD:PUBLISH
X-WR-CALNAME:VIMooZ
X-ORIGINAL-URL:https://vimooz.com
X-WR-CALDESC:Events for VIMooZ
REFRESH-INTERVAL;VALUE=DURATION:PT1H
X-Robots-Tag:noindex
X-PUBLISHED-TTL:PT1H
BEGIN:VTIMEZONE
TZID:America/New_York
BEGIN:DAYLIGHT
TZOFFSETFROM:-0500
TZOFFSETTO:-0400
TZNAME:EDT
DTSTART:20230312T070000
END:DAYLIGHT
BEGIN:STANDARD
TZOFFSETFROM:-0400
TZOFFSETTO:-0500
TZNAME:EST
DTSTART:20231105T060000
END:STANDARD
BEGIN:DAYLIGHT
TZOFFSETFROM:-0500
TZOFFSETTO:-0400
TZNAME:EDT
DTSTART:20240310T070000
END:DAYLIGHT
BEGIN:STANDARD
TZOFFSETFROM:-0400
TZOFFSETTO:-0500
TZNAME:EST
DTSTART:20241103T060000
END:STANDARD
BEGIN:DAYLIGHT
TZOFFSETFROM:-0500
TZOFFSETTO:-0400
TZNAME:EDT
DTSTART:20250309T070000
END:DAYLIGHT
BEGIN:STANDARD
TZOFFSETFROM:-0400
TZOFFSETTO:-0500
TZNAME:EST
DTSTART:20251102T060000
END:STANDARD
END:VTIMEZONE
BEGIN:VEVENT
DTSTART;VALUE=DATE:20241101
DTEND;VALUE=DATE:20241109
DTSTAMP:20260421T123702
CREATED:20241029T182131Z
LAST-MODIFIED:20241029T182131Z
UID:138804-1730419200-1731110399@vimooz.com
SUMMARY:30th Minsk International Film Festival "Listapad"
DESCRIPTION:Read more
URL:https://vimooz.com/calendar/30th-minsk-international-film-festival-listapad/
CATEGORIES:Film Festival Calendar
END:VEVENT
BEGIN:VEVENT
DTSTART;VALUE=DATE:20241101
DTEND;VALUE=DATE:20241104
DTSTAMP:20260421T123702
CREATED:20241025T200647Z
LAST-MODIFIED:20241025T200647Z
UID:138452-1730419200-1730678399@vimooz.com
SUMMARY:6th Billy the Kid Film Festival (BTKFF)
DESCRIPTION:Read more
URL:https://vimooz.com/calendar/6th-billy-the-kid-film-festival-btkff/
CATEGORIES:Film Festival Calendar
END:VEVENT
BEGIN:VEVENT
DTSTART;VALUE=DATE:20241101
DTEND;VALUE=DATE:20241104
DTSTAMP:20260421T123702
CREATED:20241025T200257Z
LAST-MODIFIED:20241025T200257Z
UID:138551-1730419200-1730678399@vimooz.com
SUMMARY:14th GuadaLAjara Film Festival in Los Angeles (GLAFF)
DESCRIPTION:Read more
URL:https://vimooz.com/calendar/14th-guadalajara-film-festival-in-los-angeles-glaff/
CATEGORIES:Film Festival Calendar
END:VEVENT
BEGIN:VEVENT
DTSTART;VALUE=DATE:20241031
DTEND;VALUE=DATE:20241111
DTSTAMP:20260421T123702
CREATED:20241030T194305Z
LAST-MODIFIED:20241030T194305Z
UID:138964-1730332800-1731283199@vimooz.com
SUMMARY:65th Thessaloniki International Film Festival
DESCRIPTION:Read more
URL:https://vimooz.com/calendar/65th-thessaloniki-international-film-festival/
CATEGORIES:Film Festival Calendar
END:VEVENT
BEGIN:VEVENT
DTSTART;VALUE=DATE:20241031
DTEND;VALUE=DATE:20241106
DTSTAMP:20260421T123702
CREATED:20241103T020253Z
LAST-MODIFIED:20241103T020458Z
UID:139090-1730332800-1730851199@vimooz.com
SUMMARY:31st KINEKO International Film Festival
DESCRIPTION:Read more
URL:https://vimooz.com/calendar/31st-kineko-international-film-festival/
CATEGORIES:Film Festival Calendar
END:VEVENT
BEGIN:VEVENT
DTSTART;VALUE=DATE:20241031
DTEND;VALUE=DATE:20241105
DTSTAMP:20260421T123702
CREATED:20241029T182104Z
LAST-MODIFIED:20241029T182104Z
UID:138811-1730332800-1730764799@vimooz.com
SUMMARY:25th Ojai Film Festival
DESCRIPTION:Read more
URL:https://vimooz.com/calendar/25th-ojai-film-festival/
CATEGORIES:Film Festival Calendar
END:VEVENT
BEGIN:VEVENT
DTSTART;VALUE=DATE:20241031
DTEND;VALUE=DATE:20241103
DTSTAMP:20260421T123702
CREATED:20241025T200625Z
LAST-MODIFIED:20241025T200625Z
UID:138454-1730332800-1730591999@vimooz.com
SUMMARY:4th Vancouver Black Independent Film Festival
DESCRIPTION:Read more
URL:https://vimooz.com/calendar/4th-vancouver-black-independent-film-festival/
CATEGORIES:Film Festival Calendar
END:VEVENT
BEGIN:VEVENT
DTSTART;VALUE=DATE:20241030
DTEND;VALUE=DATE:20241104
DTSTAMP:20260421T123702
CREATED:20241003T103146Z
LAST-MODIFIED:20241003T103146Z
UID:137146-1730246400-1730678399@vimooz.com
SUMMARY:37th Virginia Film Festival
DESCRIPTION:Read more
URL:https://vimooz.com/calendar/37th-virginia-film-festival/
CATEGORIES:Film Festival Calendar
END:VEVENT
BEGIN:VEVENT
DTSTART;VALUE=DATE:20241029
DTEND;VALUE=DATE:20241103
DTSTAMP:20260421T123702
CREATED:20241019T012543Z
LAST-MODIFIED:20241019T012543Z
UID:138135-1730160000-1730591999@vimooz.com
SUMMARY:16th Hollywood Brazilian Film Festival
DESCRIPTION:Read more
URL:https://vimooz.com/calendar/16th-hollywood-brazilian-film-festival/
CATEGORIES:Film Festival Calendar
END:VEVENT
BEGIN:VEVENT
DTSTART;VALUE=DATE:20241028
DTEND;VALUE=DATE:20241107
DTSTAMP:20260421T123702
CREATED:20241022T211412Z
LAST-MODIFIED:20241022T211412Z
UID:138279-1730073600-1730937599@vimooz.com
SUMMARY:37th Tokyo International Film Festival (TIFF)
DESCRIPTION:Read more
URL:https://vimooz.com/calendar/37th-tokyo-international-film-festival-tiff/
CATEGORIES:Film Festival Calendar
END:VEVENT
BEGIN:VEVENT
DTSTART;VALUE=DATE:20241027
DTEND;VALUE=DATE:20241101
DTSTAMP:20260421T123702
CREATED:20241025T200549Z
LAST-MODIFIED:20241025T200549Z
UID:138456-1729987200-1730419199@vimooz.com
SUMMARY:27th Milwaukee Jewish Film Festival
DESCRIPTION:Read more
URL:https://vimooz.com/calendar/27th-milwaukee-jewish-film-festival/
CATEGORIES:Film Festival Calendar
END:VEVENT
BEGIN:VEVENT
DTSTART;VALUE=DATE:20241026
DTEND;VALUE=DATE:20241104
DTSTAMP:20260421T123702
CREATED:20241029T182539Z
LAST-MODIFIED:20241029T182539Z
UID:138776-1729900800-1730678399@vimooz.com
SUMMARY:53rd Molodist International Film Festival
DESCRIPTION:Read more
URL:https://vimooz.com/calendar/53rd-molodist-international-film-festival/
CATEGORIES:Film Festival Calendar
END:VEVENT
BEGIN:VEVENT
DTSTART;VALUE=DATE:20241025
DTEND;VALUE=DATE:20241104
DTSTAMP:20260421T123702
CREATED:20240317T025044Z
LAST-MODIFIED:20240317T025044Z
UID:124599-1729814400-1730678399@vimooz.com
SUMMARY:28th Jihlava International Documentary Film Festival
DESCRIPTION:Read more
URL:https://vimooz.com/calendar/28th-jihlava-international-documentary-film-festival/
CATEGORIES:Czech Republic,Film Festival Calendar
END:VEVENT
BEGIN:VEVENT
DTSTART;VALUE=DATE:20241025
DTEND;VALUE=DATE:20241028
DTSTAMP:20260421T123702
CREATED:20241023T110238Z
LAST-MODIFIED:20241023T110238Z
UID:138306-1729814400-1730073599@vimooz.com
SUMMARY:21st Utah Queer Film Festival (UQFF)
DESCRIPTION:Read more
URL:https://vimooz.com/calendar/21st-utah-queer-film-festival-uqff/
CATEGORIES:Film Festival Calendar
END:VEVENT
BEGIN:VEVENT
DTSTART;VALUE=DATE:20241025
DTEND;VALUE=DATE:20241026
DTSTAMP:20260421T123702
CREATED:20241025T200219Z
LAST-MODIFIED:20241025T200219Z
UID:138557-1729814400-1729900799@vimooz.com
SUMMARY:19th London Korean Film Festival (LKFF)
DESCRIPTION:Read more
URL:https://vimooz.com/calendar/19th-london-korean-film-festival-lkff/
CATEGORIES:Film Festival Calendar
END:VEVENT
BEGIN:VEVENT
DTSTART;VALUE=DATE:20241024
DTEND;VALUE=DATE:20241104
DTSTAMP:20260421T123702
CREATED:20241025T200702Z
LAST-MODIFIED:20241025T200702Z
UID:138444-1729728000-1730678399@vimooz.com
SUMMARY:20th Windsor Film Festival (WIFF)
DESCRIPTION:Read more
URL:https://vimooz.com/calendar/20th-windsor-film-festival-wiff/
CATEGORIES:Film Festival Calendar
END:VEVENT
BEGIN:VEVENT
DTSTART;VALUE=DATE:20241024
DTEND;VALUE=DATE:20241102
DTSTAMP:20260421T123702
CREATED:20240427T163425Z
LAST-MODIFIED:20240427T163425Z
UID:125304-1729728000-1730505599@vimooz.com
SUMMARY:7th El Gouna Film Festival (GFF)
DESCRIPTION:Read more
URL:https://vimooz.com/calendar/7th-el-gouna-film-festival-gff/
CATEGORIES:Africa,Egypt,Film Festival Calendar
END:VEVENT
BEGIN:VEVENT
DTSTART;VALUE=DATE:20241024
DTEND;VALUE=DATE:20241101
DTSTAMP:20260421T123702
CREATED:20240317T025255Z
LAST-MODIFIED:20240317T025255Z
UID:124436-1729728000-1730419199@vimooz.com
SUMMARY:31st Austin Film Festival
DESCRIPTION:Read more
URL:https://vimooz.com/calendar/31st-austin-film-festival/
CATEGORIES:Film Festival Calendar,Texas,USA
END:VEVENT
BEGIN:VEVENT
DTSTART;VALUE=DATE:20241024
DTEND;VALUE=DATE:20241028
DTSTAMP:20260421T123702
CREATED:20240929T132634Z
LAST-MODIFIED:20240929T132634Z
UID:136733-1729728000-1730073599@vimooz.com
SUMMARY:16th Naples International Film Festival
DESCRIPTION:Read more
URL:https://vimooz.com/calendar/16th-naples-international-film-festival/
CATEGORIES:Film Festival Calendar
END:VEVENT
BEGIN:VEVENT
DTSTART;VALUE=DATE:20241024
DTEND;VALUE=DATE:20241028
DTSTAMP:20260421T123702
CREATED:20240826T140858Z
LAST-MODIFIED:20240826T140858Z
UID:134664-1729728000-1730073599@vimooz.com
SUMMARY:22nd Tallgrass Film Festival
DESCRIPTION:Read more
URL:https://vimooz.com/calendar/22nd-tallgrass-film-festival/
CATEGORIES:Film Festival Calendar
END:VEVENT
BEGIN:VEVENT
DTSTART;VALUE=DATE:20241024
DTEND;VALUE=DATE:20241028
DTSTAMP:20260421T123702
CREATED:20240122T030009Z
LAST-MODIFIED:20240122T030009Z
UID:122264-1729728000-1730073599@vimooz.com
SUMMARY:AFI FEST 2024
DESCRIPTION:Read more
URL:https://vimooz.com/calendar/afi-fest-2024/
CATEGORIES:California,Film Festival Calendar,USA
END:VEVENT
BEGIN:VEVENT
DTSTART;VALUE=DATE:20241023
DTEND;VALUE=DATE:20241104
DTSTAMP:20260421T123702
CREATED:20240328T124848Z
LAST-MODIFIED:20240328T124848Z
UID:125140-1729641600-1730678399@vimooz.com
SUMMARY:2024 Adelaide Film Festival (AFF)
DESCRIPTION:Read more
URL:https://vimooz.com/calendar/2024-adelaide-film-festival-aff/
CATEGORIES:Adelaide,Australia,Film Festival Calendar
END:VEVENT
BEGIN:VEVENT
DTSTART;VALUE=DATE:20241023
DTEND;VALUE=DATE:20241028
DTSTAMP:20260421T123702
CREATED:20240822T183356Z
LAST-MODIFIED:20240822T183356Z
UID:134441-1729641600-1730073599@vimooz.com
SUMMARY:38th AFI FEST
DESCRIPTION:Read more
URL:https://vimooz.com/calendar/38th-afi-fest/
CATEGORIES:Film Festival Calendar
END:VEVENT
BEGIN:VEVENT
DTSTART;VALUE=DATE:20241018
DTEND;VALUE=DATE:20241027
DTSTAMP:20260421T123702
CREATED:20240923T202225Z
LAST-MODIFIED:20240923T202225Z
UID:136303-1729209600-1729987199@vimooz.com
SUMMARY:33rd Hot Springs Documentary Film Festival
DESCRIPTION:Read more
URL:https://vimooz.com/calendar/33rd-hot-springs-documentary-film-festival/
CATEGORIES:Film Festival Calendar
END:VEVENT
BEGIN:VEVENT
DTSTART;VALUE=DATE:20241018
DTEND;VALUE=DATE:20241021
DTSTAMP:20260421T123702
CREATED:20241013T135502Z
LAST-MODIFIED:20241013T135502Z
UID:137786-1729209600-1729468799@vimooz.com
SUMMARY:6th Women In Film Festival
DESCRIPTION:Read more
URL:https://vimooz.com/calendar/6th-women-in-film-festival/
CATEGORIES:Film Festival Calendar
END:VEVENT
BEGIN:VEVENT
DTSTART;VALUE=DATE:20241017
DTEND;VALUE=DATE:20241028
DTSTAMP:20260421T123702
CREATED:20241003T131033Z
LAST-MODIFIED:20241003T131033Z
UID:137156-1729123200-1730073599@vimooz.com
SUMMARY:33rd Philadelphia Film Festival
DESCRIPTION:Read more
URL:https://vimooz.com/calendar/33rd-philadelphia-film-festival/
CATEGORIES:Film Festival Calendar
END:VEVENT
BEGIN:VEVENT
DTSTART;VALUE=DATE:20241016
DTEND;VALUE=DATE:20241028
DTSTAMP:20260421T123702
CREATED:20240331T232449Z
LAST-MODIFIED:20240331T232449Z
UID:125373-1729036800-1730073599@vimooz.com
SUMMARY:60th Chicago International Film Festival
DESCRIPTION:Read more
URL:https://vimooz.com/calendar/60th-chicago-international-film-festival/
CATEGORIES:Film Festival Calendar,Illinois,USA
END:VEVENT
BEGIN:VEVENT
DTSTART;VALUE=DATE:20241016
DTEND;VALUE=DATE:20241021
DTSTAMP:20260421T123702
CREATED:20240924T205019Z
LAST-MODIFIED:20240924T205019Z
UID:136392-1729036800-1729468799@vimooz.com
SUMMARY:2024 Santa Fe International Film Festival
DESCRIPTION:Read more
URL:https://vimooz.com/calendar/2024-santa-fe-international-film-festival/
CATEGORIES:Film Festival Calendar
END:VEVENT
BEGIN:VEVENT
DTSTART;VALUE=DATE:20241015
DTEND;VALUE=DATE:20241025
DTSTAMP:20260421T123702
CREATED:20240822T143540Z
LAST-MODIFIED:20240822T143540Z
UID:134415-1728950400-1729814399@vimooz.com
SUMMARY:19th Tasveer Film Festival & Market
DESCRIPTION:Read more
URL:https://vimooz.com/calendar/19th-tasveer-film-festival-market/
CATEGORIES:Film Festival Calendar
END:VEVENT
BEGIN:VEVENT
DTSTART;VALUE=DATE:20241014
DTEND;VALUE=DATE:20241021
DTSTAMP:20260421T123702
CREATED:20240827T170820Z
LAST-MODIFIED:20240922T184949Z
UID:134815-1728864000-1729468799@vimooz.com
SUMMARY:2nd South by Southwest (SXSW) Conference and Festivals Sydney
DESCRIPTION:Read more
URL:https://vimooz.com/calendar/2nd-south-by-southwest-sxsw-conference-and-festivals-sydney/
CATEGORIES:Film Festival Calendar
END:VEVENT
END:VCALENDAR