BEGIN:VCALENDAR
VERSION:2.0
PRODID:-//VIMooZ - ECPv6.15.20//NONSGML v1.0//EN
CALSCALE:GREGORIAN
METHOD:PUBLISH
X-WR-CALNAME:VIMooZ
X-ORIGINAL-URL:https://vimooz.com
X-WR-CALDESC:Events for VIMooZ
REFRESH-INTERVAL;VALUE=DURATION:PT1H
X-Robots-Tag:noindex
X-PUBLISHED-TTL:PT1H
BEGIN:VTIMEZONE
TZID:America/New_York
BEGIN:DAYLIGHT
TZOFFSETFROM:-0500
TZOFFSETTO:-0400
TZNAME:EDT
DTSTART:20230312T070000
END:DAYLIGHT
BEGIN:STANDARD
TZOFFSETFROM:-0400
TZOFFSETTO:-0500
TZNAME:EST
DTSTART:20231105T060000
END:STANDARD
BEGIN:DAYLIGHT
TZOFFSETFROM:-0500
TZOFFSETTO:-0400
TZNAME:EDT
DTSTART:20240310T070000
END:DAYLIGHT
BEGIN:STANDARD
TZOFFSETFROM:-0400
TZOFFSETTO:-0500
TZNAME:EST
DTSTART:20241103T060000
END:STANDARD
BEGIN:DAYLIGHT
TZOFFSETFROM:-0500
TZOFFSETTO:-0400
TZNAME:EDT
DTSTART:20250309T070000
END:DAYLIGHT
BEGIN:STANDARD
TZOFFSETFROM:-0400
TZOFFSETTO:-0500
TZNAME:EST
DTSTART:20251102T060000
END:STANDARD
BEGIN:DAYLIGHT
TZOFFSETFROM:-0500
TZOFFSETTO:-0400
TZNAME:EDT
DTSTART:20260308T070000
END:DAYLIGHT
BEGIN:STANDARD
TZOFFSETFROM:-0400
TZOFFSETTO:-0500
TZNAME:EST
DTSTART:20261101T060000
END:STANDARD
END:VTIMEZONE
BEGIN:VEVENT
DTSTART;VALUE=DATE:20241010
DTEND;VALUE=DATE:20241123
DTSTAMP:20260421T141546
CREATED:20240922T185904Z
LAST-MODIFIED:20240922T185904Z
UID:136255-1728518400-1732319999@vimooz.com
SUMMARY:36th New York LGBTQIA+ Film Festival (NewFest36)
DESCRIPTION:Read more
URL:https://vimooz.com/calendar/36th-new-york-lgbtqia-film-festival-newfest36/
CATEGORIES:Film Festival Calendar
END:VEVENT
BEGIN:VEVENT
DTSTART;VALUE=DATE:20241010
DTEND;VALUE=DATE:20241021
DTSTAMP:20260421T141546
CREATED:20240317T025407Z
LAST-MODIFIED:20240317T025407Z
UID:124417-1728518400-1729468799@vimooz.com
SUMMARY:33rd Heartland International Film Festival
DESCRIPTION:Read more
URL:https://vimooz.com/calendar/33rd-heartland-international-film-festival/
CATEGORIES:Film Festival Calendar,Indiana,USA
END:VEVENT
BEGIN:VEVENT
DTSTART;VALUE=DATE:20241010
DTEND;VALUE=DATE:20241018
DTSTAMP:20260421T141546
CREATED:20240922T183521Z
LAST-MODIFIED:20240922T183521Z
UID:136244-1728518400-1729209599@vimooz.com
SUMMARY:18th Buffalo International Film Festival
DESCRIPTION:Read more
URL:https://vimooz.com/calendar/18th-buffalo-international-film-festival/
CATEGORIES:Film Festival Calendar
END:VEVENT
BEGIN:VEVENT
DTSTART;VALUE=DATE:20241010
DTEND;VALUE=DATE:20241014
DTSTAMP:20260421T141546
CREATED:20240922T184300Z
LAST-MODIFIED:20240922T184300Z
UID:136250-1728518400-1728863999@vimooz.com
SUMMARY:14th Albany FilmFest
DESCRIPTION:Read more
URL:https://vimooz.com/calendar/14th-albany-filmfest/
CATEGORIES:Film Festival Calendar
END:VEVENT
BEGIN:VEVENT
DTSTART;VALUE=DATE:20241009
DTEND;VALUE=DATE:20241021
DTSTAMP:20260421T141546
CREATED:20240306T040446Z
LAST-MODIFIED:20240306T040446Z
UID:123910-1728432000-1729468799@vimooz.com
SUMMARY:68th BFI London Film Festival
DESCRIPTION:Read more
URL:https://vimooz.com/calendar/68th-bfi-london-film-festival/
CATEGORIES:England,Europe,Film Festival Calendar,United Kingdom
END:VEVENT
BEGIN:VEVENT
DTSTART;VALUE=DATE:20241004
DTEND;VALUE=DATE:20241015
DTSTAMP:20260421T141546
CREATED:20240306T040449Z
LAST-MODIFIED:20240306T040449Z
UID:123858-1728000000-1728950399@vimooz.com
SUMMARY:32nd Hamptons International Film Festival
DESCRIPTION:Read more
URL:https://vimooz.com/calendar/32nd-hamptons-international-film-festival/
CATEGORIES:Film Festival Calendar,New York,USA
END:VEVENT
BEGIN:VEVENT
DTSTART;VALUE=DATE:20241004
DTEND;VALUE=DATE:20241007
DTSTAMP:20260421T141546
CREATED:20240427T162026Z
LAST-MODIFIED:20240427T162026Z
UID:125432-1728000000-1728259199@vimooz.com
SUMMARY:1st Lake Tahoe Documentary Film Festival
DESCRIPTION:Read more
URL:https://vimooz.com/calendar/1st-lake-tahoe-documentary-film-festival/
CATEGORIES:California,Film Festival Calendar,USA
END:VEVENT
BEGIN:VEVENT
DTSTART;VALUE=DATE:20241003
DTEND;VALUE=DATE:20241014
DTSTAMP:20260421T141546
CREATED:20240924T212534Z
LAST-MODIFIED:20240924T212534Z
UID:136403-1727913600-1728863999@vimooz.com
SUMMARY:47th Mill Valley Film Festival
DESCRIPTION:Read more
URL:https://vimooz.com/calendar/47th-mill-valley-film-festival/
CATEGORIES:Film Festival Calendar
END:VEVENT
BEGIN:VEVENT
DTSTART;VALUE=DATE:20241002
DTEND;VALUE=DATE:20241014
DTSTAMP:20260421T141546
CREATED:20241002T021858Z
LAST-MODIFIED:20241002T021858Z
UID:136958-1727827200-1728863999@vimooz.com
SUMMARY:44th Hawaiʻi International Film Festival
DESCRIPTION:Read more
URL:https://vimooz.com/calendar/44th-hawai%ca%bbi-international-film-festival/
CATEGORIES:Film Festival Calendar
END:VEVENT
BEGIN:VEVENT
DTSTART;VALUE=DATE:20241002
DTEND;VALUE=DATE:20241012
DTSTAMP:20260421T141546
CREATED:20240823T183215Z
LAST-MODIFIED:20240823T183215Z
UID:134560-1727827200-1728691199@vimooz.com
SUMMARY:29th Busan International Film Festival
DESCRIPTION:Read more
URL:https://vimooz.com/calendar/29th-busan-international-film-festival/
CATEGORIES:Film Festival Calendar
END:VEVENT
BEGIN:VEVENT
DTSTART;VALUE=DATE:20241002
DTEND;VALUE=DATE:20241012
DTSTAMP:20260421T141546
CREATED:20240317T025239Z
LAST-MODIFIED:20240317T025239Z
UID:124444-1727827200-1728691199@vimooz.com
SUMMARY:29th Busan International Film Festival (BIFF)
DESCRIPTION:Read more
URL:https://vimooz.com/calendar/29th-busan-international-film-festival-biff/
CATEGORIES:Film Festival Calendar,South Korea
END:VEVENT
BEGIN:VEVENT
DTSTART;VALUE=DATE:20240927
DTEND;VALUE=DATE:20250930
DTSTAMP:20260421T141546
CREATED:20240328T124819Z
LAST-MODIFIED:20240328T124819Z
UID:125122-1727395200-1759190399@vimooz.com
SUMMARY:2024 Chesapeake Film Festival
DESCRIPTION:Read more
URL:https://vimooz.com/calendar/2024-chesapeake-film-festival/
CATEGORIES:Film Festival Calendar,Maryland,USA
END:VEVENT
BEGIN:VEVENT
DTSTART;VALUE=DATE:20240926
DTEND;VALUE=DATE:20241007
DTSTAMP:20260421T141546
CREATED:20240322T161301Z
LAST-MODIFIED:20240322T161301Z
UID:124802-1727308800-1728259199@vimooz.com
SUMMARY:2024 Reykjavík International Film Festival (RIFF)
DESCRIPTION:Read more
URL:https://vimooz.com/calendar/2024-reykjavik-international-film-festival-riff/
CATEGORIES:Europe,Film Festival Calendar,Iceland
END:VEVENT
BEGIN:VEVENT
DTSTART;VALUE=DATE:20240926
DTEND;VALUE=DATE:20240930
DTSTAMP:20260421T141546
CREATED:20240924T133840Z
LAST-MODIFIED:20240924T133840Z
UID:136356-1727308800-1727654399@vimooz.com
SUMMARY:27th Manhattan Short Film Festival
DESCRIPTION:Read more
URL:https://vimooz.com/calendar/27th-manhattan-short-film-festival/
CATEGORIES:Film Festival Calendar
END:VEVENT
BEGIN:VEVENT
DTSTART;TZID=America/New_York:20240924T000000
DTEND;TZID=America/New_York:20240929T235959
DTSTAMP:20260421T141546
CREATED:20240820T201826Z
LAST-MODIFIED:20260406T143501Z
UID:134237-1727136000-1727654399@vimooz.com
SUMMARY:13th Richmond International Film Festival (RIFF)
DESCRIPTION:Read more
URL:https://vimooz.com/calendar/13th-richmond-international-film-festival-riff/
CATEGORIES:Film Festival Calendar
END:VEVENT
BEGIN:VEVENT
DTSTART;VALUE=DATE:20240922
DTEND;VALUE=DATE:20241023
DTSTAMP:20260421T141546
CREATED:20240922T183643Z
LAST-MODIFIED:20240922T183643Z
UID:136246-1726963200-1729641599@vimooz.com
SUMMARY:14th Gold Coast International Film Festival
DESCRIPTION:Read more
URL:https://vimooz.com/calendar/14th-gold-coast-international-film-festival/
CATEGORIES:Film Festival Calendar
END:VEVENT
BEGIN:VEVENT
DTSTART;VALUE=DATE:20240920
DTEND;VALUE=DATE:20240928
DTSTAMP:20260421T141546
CREATED:20240822T182257Z
LAST-MODIFIED:20240822T182257Z
UID:134438-1726790400-1727481599@vimooz.com
SUMMARY:16th Hola Mexico Film Festival
DESCRIPTION:Read more
URL:https://vimooz.com/calendar/16th-hola-mexico-film-festival/
CATEGORIES:Film Festival Calendar
END:VEVENT
BEGIN:VEVENT
DTSTART;VALUE=DATE:20240919
DTEND;VALUE=DATE:20241003
DTSTAMP:20260421T141546
CREATED:20240922T183847Z
LAST-MODIFIED:20240922T183847Z
UID:136248-1726704000-1727913599@vimooz.com
SUMMARY:2024 Rock Horror Film Festival
DESCRIPTION:Read more
URL:https://vimooz.com/calendar/2024-rock-horror-film-festival/
CATEGORIES:Film Festival Calendar
END:VEVENT
BEGIN:VEVENT
DTSTART;VALUE=DATE:20240919
DTEND;VALUE=DATE:20240923
DTSTAMP:20260421T141546
CREATED:20240922T185458Z
LAST-MODIFIED:20240922T185458Z
UID:136253-1726704000-1727049599@vimooz.com
SUMMARY:15th Chicago South Asian Film Festival
DESCRIPTION:Read more
URL:https://vimooz.com/calendar/15th-chicago-south-asian-film-festival/
CATEGORIES:Film Festival Calendar
END:VEVENT
BEGIN:VEVENT
DTSTART;VALUE=DATE:20240912
DTEND;VALUE=DATE:20240916
DTSTAMP:20260421T141546
CREATED:20240821T022444Z
LAST-MODIFIED:20240821T022444Z
UID:134251-1726099200-1726444799@vimooz.com
SUMMARY:18th Sydney Underground Film Festival
DESCRIPTION:Read more
URL:https://vimooz.com/calendar/18th-sydney-underground-film-festival-2/
CATEGORIES:Film Festival Calendar
END:VEVENT
BEGIN:VEVENT
DTSTART;VALUE=DATE:20240912
DTEND;VALUE=DATE:20240916
DTSTAMP:20260421T141546
CREATED:20240819T150928Z
LAST-MODIFIED:20240819T151004Z
UID:134150-1726099200-1726444799@vimooz.com
SUMMARY:18th Sydney Underground Film Festival
DESCRIPTION:Read more
URL:https://vimooz.com/calendar/18th-sydney-underground-film-festival/
CATEGORIES:Film Festival Calendar
END:VEVENT
BEGIN:VEVENT
DTSTART;VALUE=DATE:20240912
DTEND;VALUE=DATE:20240915
DTSTAMP:20260421T141546
CREATED:20240322T161230Z
LAST-MODIFIED:20240322T161230Z
UID:124812-1726099200-1726358399@vimooz.com
SUMMARY:2024 Tyler Film Festival (TFF)
DESCRIPTION:Read more
URL:https://vimooz.com/calendar/2024-tyler-film-festival-tff/
CATEGORIES:Film Festival Calendar,Texas,USA
END:VEVENT
BEGIN:VEVENT
DTSTART;VALUE=DATE:20240905
DTEND;VALUE=DATE:20240916
DTSTAMP:20260421T141546
CREATED:20240424T022933Z
LAST-MODIFIED:20240424T022933Z
UID:126748-1725494400-1726444799@vimooz.com
SUMMARY:49th Toronto International Film Festival
DESCRIPTION:Read more
URL:https://vimooz.com/calendar/49th-toronto-international-film-festival/
CATEGORIES:Canada,Film Festival Calendar
END:VEVENT
BEGIN:VEVENT
DTSTART;VALUE=DATE:20240903
DTEND;VALUE=DATE:20240909
DTSTAMP:20260421T141546
CREATED:20240822T173837Z
LAST-MODIFIED:20240822T173837Z
UID:134431-1725321600-1725839999@vimooz.com
SUMMARY:19th Martha's Vineyard International Film Festival
DESCRIPTION:Read more
URL:https://vimooz.com/calendar/19th-marthas-vineyard-international-film-festival/
CATEGORIES:Film Festival Calendar
END:VEVENT
BEGIN:VEVENT
DTSTART;VALUE=DATE:20240828
DTEND;VALUE=DATE:20240908
DTSTAMP:20260421T141546
CREATED:20240808T025219Z
LAST-MODIFIED:20240808T025219Z
UID:128685-1724803200-1725753599@vimooz.com
SUMMARY:81st Venice International Film Festival
DESCRIPTION:Read more
URL:https://vimooz.com/calendar/81st-venice-international-film-festival-2/
CATEGORIES:Europe,Film Festival Calendar,Italy
END:VEVENT
BEGIN:VEVENT
DTSTART;VALUE=DATE:20240828
DTEND;VALUE=DATE:20240908
DTSTAMP:20260421T141546
CREATED:20240317T025039Z
LAST-MODIFIED:20240317T025039Z
UID:124601-1724803200-1725753599@vimooz.com
SUMMARY:81st Venice International Film Festival
DESCRIPTION:Read more
URL:https://vimooz.com/calendar/81st-venice-international-film-festival/
CATEGORIES:Film Festival Calendar,Italy
END:VEVENT
BEGIN:VEVENT
DTSTART;VALUE=DATE:20240819
DTEND;VALUE=DATE:20240826
DTSTAMP:20260421T141546
CREATED:20240822T161830Z
LAST-MODIFIED:20240822T161830Z
UID:134426-1724025600-1724630399@vimooz.com
SUMMARY:26th Sidewalk Film Festival
DESCRIPTION:Read more
URL:https://vimooz.com/calendar/26th-sidewalk-film-festival/
CATEGORIES:Film Festival Calendar
END:VEVENT
BEGIN:VEVENT
DTSTART;VALUE=DATE:20240818
DTEND;VALUE=DATE:20250617
DTSTAMP:20260421T141546
CREATED:20240818T183110Z
LAST-MODIFIED:20240818T183110Z
UID:134135-1723939200-1750118399@vimooz.com
SUMMARY:78th Locarno Film Festival
DESCRIPTION:Read more
URL:https://vimooz.com/calendar/78th-locarno-film-festival/
CATEGORIES:Film Festival Calendar
END:VEVENT
BEGIN:VEVENT
DTSTART;VALUE=DATE:20240815
DTEND;VALUE=DATE:20240822
DTSTAMP:20260421T141546
CREATED:20240412T153046Z
LAST-MODIFIED:20240412T153046Z
UID:126000-1723680000-1724284799@vimooz.com
SUMMARY:77th Edinburgh International Film Festival (EIFF)
DESCRIPTION:Read more
URL:https://vimooz.com/calendar/77th-edinburgh-international-film-festival-eiff/
CATEGORIES:Europe,Film Festival Calendar,Scotland,United Kingdom
END:VEVENT
BEGIN:VEVENT
DTSTART;VALUE=DATE:20240807
DTEND;VALUE=DATE:20240818
DTSTAMP:20260421T141546
CREATED:20240808T025146Z
LAST-MODIFIED:20240808T025146Z
UID:129268-1722988800-1723939199@vimooz.com
SUMMARY:77th Locarno Film Festival
DESCRIPTION:Read more
URL:https://vimooz.com/calendar/77th-locarno-film-festival-3/
CATEGORIES:Europe,Film Festival Calendar,Switzerland
END:VEVENT
END:VCALENDAR