BEGIN:VCALENDAR
VERSION:2.0
PRODID:-//VIMooZ - ECPv6.15.20//NONSGML v1.0//EN
CALSCALE:GREGORIAN
METHOD:PUBLISH
X-WR-CALNAME:VIMooZ
X-ORIGINAL-URL:https://vimooz.com
X-WR-CALDESC:Events for VIMooZ
REFRESH-INTERVAL;VALUE=DURATION:PT1H
X-Robots-Tag:noindex
X-PUBLISHED-TTL:PT1H
BEGIN:VTIMEZONE
TZID:America/New_York
BEGIN:DAYLIGHT
TZOFFSETFROM:-0500
TZOFFSETTO:-0400
TZNAME:EDT
DTSTART:20230312T070000
END:DAYLIGHT
BEGIN:STANDARD
TZOFFSETFROM:-0400
TZOFFSETTO:-0500
TZNAME:EST
DTSTART:20231105T060000
END:STANDARD
BEGIN:DAYLIGHT
TZOFFSETFROM:-0500
TZOFFSETTO:-0400
TZNAME:EDT
DTSTART:20240310T070000
END:DAYLIGHT
BEGIN:STANDARD
TZOFFSETFROM:-0400
TZOFFSETTO:-0500
TZNAME:EST
DTSTART:20241103T060000
END:STANDARD
BEGIN:DAYLIGHT
TZOFFSETFROM:-0500
TZOFFSETTO:-0400
TZNAME:EDT
DTSTART:20250309T070000
END:DAYLIGHT
BEGIN:STANDARD
TZOFFSETFROM:-0400
TZOFFSETTO:-0500
TZNAME:EST
DTSTART:20251102T060000
END:STANDARD
END:VTIMEZONE
BEGIN:VEVENT
DTSTART;VALUE=DATE:20241018
DTEND;VALUE=DATE:20241019
DTSTAMP:20260421T091716
CREATED:20241007T171335Z
LAST-MODIFIED:20241007T171335Z
UID:137386-1729209600-1729295999@vimooz.com
SUMMARY:Exhibiting Forgiveness (in Theaters)
DESCRIPTION:Read more
URL:https://vimooz.com/calendar/exhibiting-forgiveness-in-theaters/
CATEGORIES:Film Release Calendar
ATTACH;FMTTYPE=image/jpeg:https://images.vimooz.com/wp-content/uploads/2024/08/23091043/exhibiting-forgiveness.jpg
END:VEVENT
BEGIN:VEVENT
DTSTART;VALUE=DATE:20241018
DTEND;VALUE=DATE:20241019
DTSTAMP:20260421T091716
CREATED:20241001T174922Z
LAST-MODIFIED:20241001T174922Z
UID:133660-1729209600-1729295999@vimooz.com
SUMMARY:Anora (in Theaters)
DESCRIPTION:Read more
URL:https://vimooz.com/calendar/anora-in-theaters/
CATEGORIES:Film Release Calendar
ATTACH;FMTTYPE=image/jpeg:https://images.vimooz.com/wp-content/uploads/2024/07/16162832/anora.jpg
END:VEVENT
BEGIN:VEVENT
DTSTART;VALUE=DATE:20241018
DTEND;VALUE=DATE:20241019
DTSTAMP:20260421T091716
CREATED:20241007T171805Z
LAST-MODIFIED:20241007T171805Z
UID:137372-1729209600-1729295999@vimooz.com
SUMMARY:Union (in Theaters)
DESCRIPTION:Read more
URL:https://vimooz.com/calendar/union-in-theaters/
CATEGORIES:Film Release Calendar
ATTACH;FMTTYPE=image/png:https://images.vimooz.com/wp-content/uploads/2024/08/29033232/Union-_-Trailer-_-NYFF62-2-0-screenshot-1.png
END:VEVENT
BEGIN:VEVENT
DTSTART;VALUE=DATE:20241017
DTEND;VALUE=DATE:20241018
DTSTAMP:20260421T091716
CREATED:20241007T171902Z
LAST-MODIFIED:20241007T171902Z
UID:137100-1729123200-1729209599@vimooz.com
SUMMARY:The Devil’s Climb (in Theaters)
DESCRIPTION:Read more
URL:https://vimooz.com/calendar/the-devils-climb-in-theaters/
CATEGORIES:Film Release Calendar
ATTACH;FMTTYPE=image/jpeg:https://images.vimooz.com/wp-content/uploads/2024/09/25151621/the-devils-climb.jpg
END:VEVENT
BEGIN:VEVENT
DTSTART;VALUE=DATE:20241011
DTEND;VALUE=DATE:20241012
DTSTAMP:20260421T091716
CREATED:20241022T133918Z
LAST-MODIFIED:20241022T133918Z
UID:137430-1728604800-1728691199@vimooz.com
SUMMARY:We Live in Time (in Theaters)
DESCRIPTION:Read more
URL:https://vimooz.com/calendar/we-live-in-time-in-theaters-2/
CATEGORIES:Film Release Calendar
ATTACH;FMTTYPE=image/jpeg:https://images.vimooz.com/wp-content/uploads/2024/07/11093352/We-Live-In-Time.jpg
END:VEVENT
BEGIN:VEVENT
DTSTART;VALUE=DATE:20241011
DTEND;VALUE=DATE:20241012
DTSTAMP:20260421T091716
CREATED:20241007T171857Z
LAST-MODIFIED:20241007T171857Z
UID:137110-1728604800-1728691199@vimooz.com
SUMMARY:Unicorn Boy (in Theaters)
DESCRIPTION:Read more
URL:https://vimooz.com/calendar/unicorn-boy-in-theaters/
CATEGORIES:Film Release Calendar
ATTACH;FMTTYPE=image/jpeg:https://images.vimooz.com/wp-content/uploads/2024/09/22210145/Unicorn-Boy.jpg
END:VEVENT
BEGIN:VEVENT
DTSTART;VALUE=DATE:20241011
DTEND;VALUE=DATE:20241012
DTSTAMP:20260421T091716
CREATED:20241007T171852Z
LAST-MODIFIED:20241007T171852Z
UID:137128-1728604800-1728691199@vimooz.com
SUMMARY:The Apprentice (in Theaters)
DESCRIPTION:Read more
URL:https://vimooz.com/calendar/the-apprentice-in-theaters/
CATEGORIES:Film Release Calendar
ATTACH;FMTTYPE=image/jpeg:https://images.vimooz.com/wp-content/uploads/2024/09/18154750/the-apprentice.jpg
END:VEVENT
BEGIN:VEVENT
DTSTART;VALUE=DATE:20241011
DTEND;VALUE=DATE:20241012
DTSTAMP:20260421T091716
CREATED:20241007T171849Z
LAST-MODIFIED:20241007T171849Z
UID:137067-1728604800-1728691199@vimooz.com
SUMMARY:Bonus Track (in Theaters)
DESCRIPTION:Read more
URL:https://vimooz.com/calendar/bonus-track-in-theaters/
CATEGORIES:Film Release Calendar
ATTACH;FMTTYPE=image/jpeg:https://images.vimooz.com/wp-content/uploads/2024/09/26230632/Bonus-Track.jpg
END:VEVENT
BEGIN:VEVENT
DTSTART;VALUE=DATE:20241011
DTEND;VALUE=DATE:20241012
DTSTAMP:20260421T091716
CREATED:20241007T171840Z
LAST-MODIFIED:20241007T171840Z
UID:137368-1728604800-1728691199@vimooz.com
SUMMARY:The Universal Theory (in Theaters)
DESCRIPTION:Read more
URL:https://vimooz.com/calendar/the-universal-theory-in-theaters/
CATEGORIES:Film Release Calendar
ATTACH;FMTTYPE=image/jpeg:https://images.vimooz.com/wp-content/uploads/2024/08/30080527/The-Universal-Theory_Still_009.jpg
END:VEVENT
BEGIN:VEVENT
DTSTART;VALUE=DATE:20241011
DTEND;VALUE=DATE:20241012
DTSTAMP:20260421T091716
CREATED:20241006T175231Z
LAST-MODIFIED:20241006T175231Z
UID:137296-1728604800-1728691199@vimooz.com
SUMMARY:The Last of the Sea Women (Apple TV+)
DESCRIPTION:Read more
URL:https://vimooz.com/calendar/the-last-of-the-sea-women-apple-tv/
CATEGORIES:Film Release Calendar
ATTACH;FMTTYPE=image/jpeg:https://images.vimooz.com/wp-content/uploads/2024/09/06105941/The-Last-of-the-Sea-Women.jpg
END:VEVENT
BEGIN:VEVENT
DTSTART;VALUE=DATE:20241011
DTEND;VALUE=DATE:20241012
DTSTAMP:20260421T091716
CREATED:20241001T174915Z
LAST-MODIFIED:20241001T174915Z
UID:133790-1728604800-1728691199@vimooz.com
SUMMARY:We Live in Time (in Theaters)
DESCRIPTION:Read more
URL:https://vimooz.com/calendar/we-live-in-time-in-theaters/
CATEGORIES:Film Release Calendar
ATTACH;FMTTYPE=image/jpeg:https://images.vimooz.com/wp-content/uploads/2024/07/11093352/We-Live-In-Time.jpg
END:VEVENT
BEGIN:VEVENT
DTSTART;VALUE=DATE:20241009
DTEND;VALUE=DATE:20241010
DTSTAMP:20260421T091716
CREATED:20241007T171751Z
LAST-MODIFIED:20241007T171751Z
UID:137374-1728432000-1728518399@vimooz.com
SUMMARY:Daytime Revolution (in Theaters)
DESCRIPTION:Read more
URL:https://vimooz.com/calendar/daytime-revolution-in-theaters/
CATEGORIES:Film Release Calendar
ATTACH;FMTTYPE=image/jpeg:https://images.vimooz.com/wp-content/uploads/2024/08/27035448/DaytimeRevolution_Mike-Douglas-Yoko-Ono-John-Lennon_c-Michael-Leshnov-1.jpg
END:VEVENT
BEGIN:VEVENT
DTSTART;VALUE=DATE:20241008
DTEND;VALUE=DATE:20241009
DTSTAMP:20260421T091716
CREATED:20241007T171745Z
LAST-MODIFIED:20241007T171745Z
UID:137376-1728345600-1728431999@vimooz.com
SUMMARY:Studio One Forever (in Theaters)
DESCRIPTION:Read more
URL:https://vimooz.com/calendar/studio-one-forever-in-theaters/
CATEGORIES:Film Release Calendar
ATTACH;FMTTYPE=image/png:https://images.vimooz.com/wp-content/uploads/2024/08/27095221/image-22.png
END:VEVENT
BEGIN:VEVENT
DTSTART;VALUE=DATE:20241008
DTEND;VALUE=DATE:20241009
DTSTAMP:20260421T091716
CREATED:20241006T175432Z
LAST-MODIFIED:20241006T175432Z
UID:137286-1728345600-1728431999@vimooz.com
SUMMARY:Good Girl Jane (in Theaters)
DESCRIPTION:Read more
URL:https://vimooz.com/calendar/good-girl-jane-in-theaters/
CATEGORIES:Film Release Calendar
ATTACH;FMTTYPE=image/jpeg:https://images.vimooz.com/wp-content/uploads/2024/09/13133653/Good-Girl-Jane.jpg
END:VEVENT
BEGIN:VEVENT
DTSTART;VALUE=DATE:20241007
DTEND;VALUE=DATE:20241008
DTSTAMP:20260421T091716
CREATED:20241006T175721Z
LAST-MODIFIED:20241006T175721Z
UID:137103-1728259200-1728345599@vimooz.com
SUMMARY:The Menendez Brothers (in Theaters)
DESCRIPTION:Read more
URL:https://vimooz.com/calendar/the-menendez-brothers-in-theaters/
CATEGORIES:Film Release Calendar
ATTACH;FMTTYPE=image/jpeg:https://images.vimooz.com/wp-content/uploads/2024/09/24142939/The-Menendez-Brothers.jpg
END:VEVENT
BEGIN:VEVENT
DTSTART;VALUE=DATE:20241004
DTEND;VALUE=DATE:20241005
DTSTAMP:20260421T091716
CREATED:20241007T172201Z
LAST-MODIFIED:20241007T172201Z
UID:137158-1728000000-1728086399@vimooz.com
SUMMARY:It’s What’s Inside (in Theaters)
DESCRIPTION:Read more
URL:https://vimooz.com/calendar/its-whats-inside-in-theaters/
CATEGORIES:Film Release Calendar
ATTACH;FMTTYPE=image/jpeg:https://images.vimooz.com/wp-content/uploads/2024/09/16150432/Its-Whats-Inside.jpg
END:VEVENT
BEGIN:VEVENT
DTSTART;VALUE=DATE:20241004
DTEND;VALUE=DATE:20241005
DTSTAMP:20260421T091716
CREATED:20241006T175712Z
LAST-MODIFIED:20241006T175712Z
UID:137077-1728000000-1728086399@vimooz.com
SUMMARY:The Platform 2 (in Theaters)
DESCRIPTION:Read more
URL:https://vimooz.com/calendar/the-platform-2-in-theaters/
CATEGORIES:Film Release Calendar
ATTACH;FMTTYPE=image/jpeg:https://images.vimooz.com/wp-content/uploads/2024/09/26082253/The-Platform-2-trailer.jpg
END:VEVENT
BEGIN:VEVENT
DTSTART;VALUE=DATE:20241004
DTEND;VALUE=DATE:20241005
DTSTAMP:20260421T091716
CREATED:20241006T175508Z
LAST-MODIFIED:20241006T175508Z
UID:137282-1728000000-1728086399@vimooz.com
SUMMARY:Daaaaaalí (in Theaters)
DESCRIPTION:Read more
URL:https://vimooz.com/calendar/daaaaaali-in-theaters/
CATEGORIES:Film Release Calendar
ATTACH;FMTTYPE=image/jpeg:https://images.vimooz.com/wp-content/uploads/2024/09/15215732/Daaaaaali_img2.jpg
END:VEVENT
BEGIN:VEVENT
DTSTART;VALUE=DATE:20241004
DTEND;VALUE=DATE:20241005
DTSTAMP:20260421T091716
CREATED:20241006T175025Z
LAST-MODIFIED:20241006T175025Z
UID:137315-1728000000-1728086399@vimooz.com
SUMMARY:Blink (in Theaters)
DESCRIPTION:Read more
URL:https://vimooz.com/calendar/blink-in-theaters/
CATEGORIES:Film Release Calendar
ATTACH;FMTTYPE=image/jpeg:https://images.vimooz.com/wp-content/uploads/2024/08/29212240/mIumZflQ-1-scaled.jpeg
END:VEVENT
BEGIN:VEVENT
DTSTART;VALUE=DATE:20241003
DTEND;VALUE=DATE:20241004
DTSTAMP:20260421T091716
CREATED:20241006T175703Z
LAST-MODIFIED:20241006T175703Z
UID:137137-1727913600-1727999999@vimooz.com
SUMMARY:Louder Than You Think (in Theaters)
DESCRIPTION:Read more
URL:https://vimooz.com/calendar/louder-than-you-think-in-theaters/
CATEGORIES:Film Release Calendar
ATTACH;FMTTYPE=image/jpeg:https://images.vimooz.com/wp-content/uploads/2024/09/18044624/Screenshot-2024-07-24-at-11.54.02%E2%80%AFAM-1-scaled.jpg
END:VEVENT
BEGIN:VEVENT
DTSTART;VALUE=DATE:20241003
DTEND;VALUE=DATE:20241004
DTSTAMP:20260421T091716
CREATED:20241006T175531Z
LAST-MODIFIED:20241006T175531Z
UID:137122-1727913600-1727999999@vimooz.com
SUMMARY:Hold Your Breath (in Theaters)
DESCRIPTION:Read more
URL:https://vimooz.com/calendar/hold-your-breath-in-theaters/
CATEGORIES:Film Release Calendar
ATTACH;FMTTYPE=image/jpeg:https://images.vimooz.com/wp-content/uploads/2024/09/18202204/Hold-Your-Breath.jpg
END:VEVENT
BEGIN:VEVENT
DTSTART;VALUE=DATE:20241001
DTEND;VALUE=DATE:20241101
DTSTAMP:20260421T091716
CREATED:20241006T175657Z
LAST-MODIFIED:20241006T175657Z
UID:137125-1727740800-1730419199@vimooz.com
SUMMARY:1978 (in Theaters)
DESCRIPTION:Read more
URL:https://vimooz.com/calendar/1978-in-theaters/
CATEGORIES:Film Release Calendar
ATTACH;FMTTYPE=image/jpeg:https://images.vimooz.com/wp-content/uploads/2024/09/18160835/1978.jpg
END:VEVENT
BEGIN:VEVENT
DTSTART;VALUE=DATE:20240927
DTEND;VALUE=DATE:20240928
DTSTAMP:20260421T091716
CREATED:20241001T174907Z
LAST-MODIFIED:20241001T174907Z
UID:133662-1727395200-1727481599@vimooz.com
SUMMARY:Lee (in Theaters)
DESCRIPTION:Read more
URL:https://vimooz.com/calendar/lee-in-theaters-2/
CATEGORIES:Film Release Calendar
ATTACH;FMTTYPE=image/jpeg:https://images.vimooz.com/wp-content/uploads/2024/07/16161311/lee-pic3_rgb.jpg
END:VEVENT
BEGIN:VEVENT
DTSTART;VALUE=DATE:20240927
DTEND;VALUE=DATE:20240928
DTSTAMP:20260421T091716
CREATED:20241001T174859Z
LAST-MODIFIED:20241001T174859Z
UID:133687-1727395200-1727481599@vimooz.com
SUMMARY:The Outrun(in Theaters)
DESCRIPTION:Read more
URL:https://vimooz.com/calendar/the-outrunin-theaters/
CATEGORIES:Film Release Calendar
ATTACH;FMTTYPE=image/png:https://images.vimooz.com/wp-content/uploads/2024/08/06041608/THE-OUTRUN-_-Official-Trailer-2024-1-6-screenshot-2.png
END:VEVENT
BEGIN:VEVENT
DTSTART;VALUE=DATE:20240927
DTEND;VALUE=DATE:20240928
DTSTAMP:20260421T091716
CREATED:20240530T015528Z
LAST-MODIFIED:20240530T015528Z
UID:128620-1727395200-1727481599@vimooz.com
SUMMARY:Never Let Go (in Theaters)
DESCRIPTION:Read more
URL:https://vimooz.com/calendar/never-let-go-in-theaters/
CATEGORIES:Film Release Calendar
ATTACH;FMTTYPE=image/jpeg:https://images.vimooz.com/wp-content/uploads/2024/05/17223425/never-let-go.jpg
END:VEVENT
BEGIN:VEVENT
DTSTART;VALUE=DATE:20240927
DTEND;VALUE=DATE:20240928
DTSTAMP:20260421T091716
CREATED:20240512T020447Z
LAST-MODIFIED:20240512T020447Z
UID:127866-1727395200-1727481599@vimooz.com
SUMMARY:Lee (in Theaters)
DESCRIPTION:Read more
URL:https://vimooz.com/calendar/lee-in-theaters/
CATEGORIES:Film Release Calendar
ATTACH;FMTTYPE=image/jpeg:https://images.vimooz.com/wp-content/uploads/2024/05/01145913/Lee-movie.jpg
END:VEVENT
BEGIN:VEVENT
DTSTART;VALUE=DATE:20240920
DTEND;VALUE=DATE:20240921
DTSTAMP:20260421T091716
CREATED:20241001T174848Z
LAST-MODIFIED:20241001T174848Z
UID:133664-1726790400-1726876799@vimooz.com
SUMMARY:A Different Man (in Theaters)
DESCRIPTION:Read more
URL:https://vimooz.com/calendar/a-different-man-in-theaters/
CATEGORIES:Film Release Calendar
ATTACH;FMTTYPE=image/jpeg:https://images.vimooz.com/wp-content/uploads/2024/07/16135707/a-different-man.jpg
END:VEVENT
BEGIN:VEVENT
DTSTART;VALUE=DATE:20240920
DTEND;VALUE=DATE:20240921
DTSTAMP:20260421T091716
CREATED:20240822T134854Z
LAST-MODIFIED:20240822T134854Z
UID:134409-1726790400-1726876799@vimooz.com
SUMMARY:Three Daughters (Netflix)
DESCRIPTION:Read more
URL:https://vimooz.com/calendar/three-daughters-netflix/
CATEGORIES:Film Release Calendar
ATTACH;FMTTYPE=image/jpeg:https://images.vimooz.com/wp-content/uploads/2024/08/22093735/His-Three-Daughters.jpg
END:VEVENT
BEGIN:VEVENT
DTSTART;VALUE=DATE:20240906
DTEND;VALUE=DATE:20240907
DTSTAMP:20260421T091716
CREATED:20240822T134745Z
LAST-MODIFIED:20240822T134745Z
UID:134407-1725580800-1725667199@vimooz.com
SUMMARY:Three Daughters (in Theaters)
DESCRIPTION:Read more
URL:https://vimooz.com/calendar/three-daughters-in-theaters/
CATEGORIES:Film Release Calendar
ATTACH;FMTTYPE=image/jpeg:https://images.vimooz.com/wp-content/uploads/2024/08/22093735/His-Three-Daughters.jpg
END:VEVENT
BEGIN:VEVENT
DTSTART;VALUE=DATE:20240823
DTEND;VALUE=DATE:20240824
DTSTAMP:20260421T091716
CREATED:20240512T020406Z
LAST-MODIFIED:20240512T020406Z
UID:127868-1724371200-1724457599@vimooz.com
SUMMARY:The Forge (in Theaters)
DESCRIPTION:Read more
URL:https://vimooz.com/calendar/the-forge-in-theaters/
CATEGORIES:Film Release Calendar
ATTACH;FMTTYPE=image/jpeg:https://images.vimooz.com/wp-content/uploads/2024/04/27093512/The-Forge.jpg
END:VEVENT
END:VCALENDAR