BEGIN:VCALENDAR
VERSION:2.0
PRODID:-//VIMooZ - ECPv6.15.20//NONSGML v1.0//EN
CALSCALE:GREGORIAN
METHOD:PUBLISH
X-ORIGINAL-URL:https://vimooz.com
X-WR-CALDESC:Events for VIMooZ
REFRESH-INTERVAL;VALUE=DURATION:PT1H
X-Robots-Tag:noindex
X-PUBLISHED-TTL:PT1H
BEGIN:VTIMEZONE
TZID:America/New_York
BEGIN:DAYLIGHT
TZOFFSETFROM:-0500
TZOFFSETTO:-0400
TZNAME:EDT
DTSTART:20230312T070000
END:DAYLIGHT
BEGIN:STANDARD
TZOFFSETFROM:-0400
TZOFFSETTO:-0500
TZNAME:EST
DTSTART:20231105T060000
END:STANDARD
BEGIN:DAYLIGHT
TZOFFSETFROM:-0500
TZOFFSETTO:-0400
TZNAME:EDT
DTSTART:20240310T070000
END:DAYLIGHT
BEGIN:STANDARD
TZOFFSETFROM:-0400
TZOFFSETTO:-0500
TZNAME:EST
DTSTART:20241103T060000
END:STANDARD
BEGIN:DAYLIGHT
TZOFFSETFROM:-0500
TZOFFSETTO:-0400
TZNAME:EDT
DTSTART:20250309T070000
END:DAYLIGHT
BEGIN:STANDARD
TZOFFSETFROM:-0400
TZOFFSETTO:-0500
TZNAME:EST
DTSTART:20251102T060000
END:STANDARD
END:VTIMEZONE
BEGIN:VEVENT
DTSTART;VALUE=DATE:20240503
DTEND;VALUE=DATE:20240504
DTSTAMP:20260421T134511
CREATED:20240319T153623Z
LAST-MODIFIED:20240319T153623Z
UID:124669-1714694400-1714780799@vimooz.com
SUMMARY:Wildcat (in Theaters)
DESCRIPTION:Read more
URL:https://vimooz.com/calendar/wildcat-in-theaters/
CATEGORIES:Film Release Calendar
ATTACH;FMTTYPE=image/jpeg:https://images.vimooz.com/wp-content/uploads/2024/03/13223133/Wildcat_002_Still.jpeg
END:VEVENT
BEGIN:VEVENT
DTSTART;VALUE=DATE:20240503
DTEND;VALUE=DATE:20240504
DTSTAMP:20260421T134511
CREATED:20240310T145239Z
LAST-MODIFIED:20240310T145239Z
UID:124152-1714694400-1714780799@vimooz.com
SUMMARY:I Saw the TV Glow (in Theaters)
DESCRIPTION:Read more
URL:https://vimooz.com/calendar/i-saw-the-tv-glow-in-theaters/
CATEGORIES:Film Release Calendar
ATTACH;FMTTYPE=image/jpeg:https://images.vimooz.com/wp-content/uploads/2024/02/28141321/I_Saw_the_TV_Glow-Still1.jpg
END:VEVENT
BEGIN:VEVENT
DTSTART;VALUE=DATE:20240428
DTEND;VALUE=DATE:20240429
DTSTAMP:20260421T134511
CREATED:20240424T022729Z
LAST-MODIFIED:20240424T022729Z
UID:126939-1714262400-1714348799@vimooz.com
SUMMARY:Beethoven’s Nine: Ode to Humanity (in Theaters)
DESCRIPTION:Read more
URL:https://vimooz.com/calendar/beethovens-nine-ode-to-humanity-in-theaters/
CATEGORIES:Film Release Calendar
ATTACH;FMTTYPE=image/jpeg:https://images.vimooz.com/wp-content/uploads/2024/04/19070728/Beethovens-Nine-Ode-to-Humanity.jpeg
END:VEVENT
BEGIN:VEVENT
DTSTART;VALUE=DATE:20240426
DTEND;VALUE=DATE:20240427
DTSTAMP:20260421T134511
CREATED:20240424T022806Z
LAST-MODIFIED:20240424T022806Z
UID:126929-1714089600-1714175999@vimooz.com
SUMMARY:Dancing Village: The Curse Begins (in Theaters)
DESCRIPTION:Read more
URL:https://vimooz.com/calendar/dancing-village-the-curse-begins-in-theaters/
CATEGORIES:Film Release Calendar
ATTACH;FMTTYPE=image/jpeg:https://images.vimooz.com/wp-content/uploads/2024/04/15155957/Dancing-Village-The-Curse-Begins.jpg
END:VEVENT
BEGIN:VEVENT
DTSTART;VALUE=DATE:20240426
DTEND;VALUE=DATE:20240427
DTSTAMP:20260421T134511
CREATED:20240406T144534Z
LAST-MODIFIED:20240406T144534Z
UID:125537-1714089600-1714175999@vimooz.com
SUMMARY:Bloodline Killer (in Theaters)
DESCRIPTION:Read more
URL:https://vimooz.com/calendar/bloodline-killer-in-theaters/
CATEGORIES:Film Release Calendar
ATTACH;FMTTYPE=image/jpeg:https://images.vimooz.com/wp-content/uploads/2024/03/27162358/Bloodline-Killer.jpg
END:VEVENT
BEGIN:VEVENT
DTSTART;VALUE=DATE:20240426
DTEND;VALUE=DATE:20240427
DTSTAMP:20260421T134511
CREATED:20240319T153616Z
LAST-MODIFIED:20240319T153616Z
UID:124671-1714089600-1714175999@vimooz.com
SUMMARY:The Feeling That the Time for Doing Something Has Passed (in Theaters)
DESCRIPTION:Read more
URL:https://vimooz.com/calendar/the-feeling-that-the-time-for-doing-something-has-passed-in-theaters/
CATEGORIES:Film Release Calendar
ATTACH;FMTTYPE=image/jpeg:https://images.vimooz.com/wp-content/uploads/2024/03/13162836/The-Feeling-That-the-Time-for-Doing-Something-Has-Passed.jpeg
END:VEVENT
BEGIN:VEVENT
DTSTART;VALUE=DATE:20240426
DTEND;VALUE=DATE:20240427
DTSTAMP:20260421T134511
CREATED:20240310T145348Z
LAST-MODIFIED:20240310T145348Z
UID:124140-1714089600-1714175999@vimooz.com
SUMMARY:Boy Kills World (in Theaters)
DESCRIPTION:Read more
URL:https://vimooz.com/calendar/boy-kills-world-in-theaters/
CATEGORIES:Film Release Calendar
ATTACH;FMTTYPE=image/jpeg:https://images.vimooz.com/wp-content/uploads/2024/02/24134750/Boy-Kills-World.jpg
END:VEVENT
BEGIN:VEVENT
DTSTART;VALUE=DATE:20240426
DTEND;VALUE=DATE:20240427
DTSTAMP:20260421T134511
CREATED:20231224T150715Z
LAST-MODIFIED:20231224T150715Z
UID:121368-1714089600-1714175999@vimooz.com
SUMMARY:Civil War (in Theaters)
DESCRIPTION:Read more
URL:https://vimooz.com/calendar/civil-war-in-theaters/
CATEGORIES:Film Release Calendar
ATTACH;FMTTYPE=image/jpeg:https://images.vimooz.com/wp-content/uploads/2023/12/13215453/Civil-War.jpg
END:VEVENT
END:VCALENDAR