BEGIN:VCALENDAR
VERSION:2.0
PRODID:-//VIMooZ - ECPv6.15.20//NONSGML v1.0//EN
CALSCALE:GREGORIAN
METHOD:PUBLISH
X-WR-CALNAME:VIMooZ
X-ORIGINAL-URL:https://vimooz.com
X-WR-CALDESC:Events for VIMooZ
REFRESH-INTERVAL;VALUE=DURATION:PT1H
X-Robots-Tag:noindex
X-PUBLISHED-TTL:PT1H
BEGIN:VTIMEZONE
TZID:America/New_York
BEGIN:DAYLIGHT
TZOFFSETFROM:-0500
TZOFFSETTO:-0400
TZNAME:EDT
DTSTART:20230312T070000
END:DAYLIGHT
BEGIN:STANDARD
TZOFFSETFROM:-0400
TZOFFSETTO:-0500
TZNAME:EST
DTSTART:20231105T060000
END:STANDARD
BEGIN:DAYLIGHT
TZOFFSETFROM:-0500
TZOFFSETTO:-0400
TZNAME:EDT
DTSTART:20240310T070000
END:DAYLIGHT
BEGIN:STANDARD
TZOFFSETFROM:-0400
TZOFFSETTO:-0500
TZNAME:EST
DTSTART:20241103T060000
END:STANDARD
BEGIN:DAYLIGHT
TZOFFSETFROM:-0500
TZOFFSETTO:-0400
TZNAME:EDT
DTSTART:20250309T070000
END:DAYLIGHT
BEGIN:STANDARD
TZOFFSETFROM:-0400
TZOFFSETTO:-0500
TZNAME:EST
DTSTART:20251102T060000
END:STANDARD
END:VTIMEZONE
BEGIN:VEVENT
DTSTART;VALUE=DATE:20241107
DTEND;VALUE=DATE:20241115
DTSTAMP:20260421T223530
CREATED:20241025T200437Z
LAST-MODIFIED:20241025T200437Z
UID:138516-1730937600-1731628799@vimooz.com
SUMMARY:19th Teaneck International Film Festival (TIFF)
DESCRIPTION:Read more
URL:https://vimooz.com/calendar/19th-teaneck-international-film-festival-tiff/
CATEGORIES:Film Festival Calendar
END:VEVENT
BEGIN:VEVENT
DTSTART;VALUE=DATE:20241107
DTEND;VALUE=DATE:20241112
DTSTAMP:20260421T223530
CREATED:20241115T114752Z
LAST-MODIFIED:20241115T114752Z
UID:139291-1730937600-1731369599@vimooz.com
SUMMARY:7th Hanoi International Film Festival (HANIFF)
DESCRIPTION:Read more
URL:https://vimooz.com/calendar/7th-hanoi-international-film-festival-haniff/
CATEGORIES:Film Festival Calendar
END:VEVENT
BEGIN:VEVENT
DTSTART;VALUE=DATE:20241107
DTEND;VALUE=DATE:20241112
DTSTAMP:20260421T223530
CREATED:20241029T182141Z
LAST-MODIFIED:20241029T182141Z
UID:138797-1730937600-1731369599@vimooz.com
SUMMARY:7th Hà Nội International Film Festival (HANIFF)
DESCRIPTION:Read more
URL:https://vimooz.com/calendar/7th-ha-noi-international-film-festival-haniff/
CATEGORIES:Film Festival Calendar
END:VEVENT
BEGIN:VEVENT
DTSTART;VALUE=DATE:20241107
DTEND;VALUE=DATE:20241111
DTSTAMP:20260421T223530
CREATED:20241104T202140Z
LAST-MODIFIED:20241104T202140Z
UID:139184-1730937600-1731283199@vimooz.com
SUMMARY:4th Timmins Film Festival
DESCRIPTION:Read more
URL:https://vimooz.com/calendar/4th-timmins-film-festival/
CATEGORIES:Film Festival Calendar
END:VEVENT
BEGIN:VEVENT
DTSTART;VALUE=DATE:20241107
DTEND;VALUE=DATE:20241111
DTSTAMP:20260421T223530
CREATED:20241104T202028Z
LAST-MODIFIED:20241104T202028Z
UID:139187-1730937600-1731283199@vimooz.com
SUMMARY:12th Fairhope Film Festival
DESCRIPTION:Read more
URL:https://vimooz.com/calendar/12th-fairhope-film-festival/
CATEGORIES:Film Festival Calendar
END:VEVENT
BEGIN:VEVENT
DTSTART;VALUE=DATE:20241107
DTEND;VALUE=DATE:20241111
DTSTAMP:20260421T223530
CREATED:20241104T201952Z
LAST-MODIFIED:20241104T201952Z
UID:139191-1730937600-1731283199@vimooz.com
SUMMARY:24th  Diaspora Film Festival
DESCRIPTION:Read more
URL:https://vimooz.com/calendar/24th-diaspora-film-festival/
CATEGORIES:Film Festival Calendar
END:VEVENT
BEGIN:VEVENT
DTSTART;VALUE=DATE:20241107
DTEND;VALUE=DATE:20241111
DTSTAMP:20260421T223530
CREATED:20241030T194336Z
LAST-MODIFIED:20241030T194336Z
UID:138954-1730937600-1731283199@vimooz.com
SUMMARY:2024 Alexandria Film Festival
DESCRIPTION:Read more
URL:https://vimooz.com/calendar/2024-alexandria-film-festival/
CATEGORIES:Film Festival Calendar
END:VEVENT
BEGIN:VEVENT
DTSTART;VALUE=DATE:20241107
DTEND;VALUE=DATE:20241111
DTSTAMP:20260421T223530
CREATED:20241030T194255Z
LAST-MODIFIED:20241030T194255Z
UID:138966-1730937600-1731283199@vimooz.com
SUMMARY:5th Romanian Film Festival
DESCRIPTION:Read more
URL:https://vimooz.com/calendar/5th-romanian-film-festival/
CATEGORIES:Film Festival Calendar
END:VEVENT
BEGIN:VEVENT
DTSTART;VALUE=DATE:20241107
DTEND;VALUE=DATE:20241111
DTSTAMP:20260421T223530
CREATED:20241029T182113Z
LAST-MODIFIED:20241029T182113Z
UID:138809-1730937600-1731283199@vimooz.com
SUMMARY:20th Tucson Film Festival
DESCRIPTION:Read more
URL:https://vimooz.com/calendar/20th-tucson-film-festival/
CATEGORIES:Film Festival Calendar
END:VEVENT
BEGIN:VEVENT
DTSTART;VALUE=DATE:20241107
DTEND;VALUE=DATE:20241111
DTSTAMP:20260421T223530
CREATED:20241025T200740Z
LAST-MODIFIED:20241025T200740Z
UID:138438-1730937600-1731283199@vimooz.com
SUMMARY:14th Arlington International Film Festival (AIFF)
DESCRIPTION:Read more
URL:https://vimooz.com/calendar/14th-arlington-international-film-festival-aiff/
CATEGORIES:Film Festival Calendar
END:VEVENT
BEGIN:VEVENT
DTSTART;VALUE=DATE:20241107
DTEND;VALUE=DATE:20241111
DTSTAMP:20260421T223530
CREATED:20241023T110305Z
LAST-MODIFIED:20241023T110305Z
UID:138304-1730937600-1731283199@vimooz.com
SUMMARY:13th Dharamshala International Film Festival
DESCRIPTION:Read more
URL:https://vimooz.com/calendar/13th-dharamshala-international-film-festival/
CATEGORIES:Film Festival Calendar
END:VEVENT
BEGIN:VEVENT
DTSTART;VALUE=DATE:20241106
DTEND;VALUE=DATE:20241118
DTSTAMP:20260421T223530
CREATED:20241030T194312Z
LAST-MODIFIED:20241030T194312Z
UID:138962-1730851200-1731887999@vimooz.com
SUMMARY:35th Stockholm International Film Festival
DESCRIPTION:Read more
URL:https://vimooz.com/calendar/35th-stockholm-international-film-festival/
CATEGORIES:Film Festival Calendar
END:VEVENT
BEGIN:VEVENT
DTSTART;VALUE=DATE:20241106
DTEND;VALUE=DATE:20241111
DTSTAMP:20260421T223530
CREATED:20241104T201924Z
LAST-MODIFIED:20241104T201924Z
UID:139198-1730851200-1731283199@vimooz.com
SUMMARY:7th New York Baltic Film Festival (NYBFF) (in-person)
DESCRIPTION:Read more
URL:https://vimooz.com/calendar/7th-new-york-baltic-film-festival-nybff-in-person/
CATEGORIES:Film Festival Calendar
END:VEVENT
BEGIN:VEVENT
DTSTART;VALUE=DATE:20241106
DTEND;VALUE=DATE:20241111
DTSTAMP:20260421T223530
CREATED:20241029T182549Z
LAST-MODIFIED:20241029T182549Z
UID:138634-1730851200-1731283199@vimooz.com
SUMMARY:49th Coronado Island Film Festival (CIFF)
DESCRIPTION:Read more
URL:https://vimooz.com/calendar/49th-coronado-island-film-festival-ciff/
CATEGORIES:Film Festival Calendar
END:VEVENT
BEGIN:VEVENT
DTSTART;VALUE=DATE:20241106
DTEND;VALUE=DATE:20241111
DTSTAMP:20260421T223530
CREATED:20240322T161305Z
LAST-MODIFIED:20240322T161305Z
UID:124800-1730851200-1731283199@vimooz.com
SUMMARY:2024 Coronado Island Film Festival
DESCRIPTION:Read more
URL:https://vimooz.com/calendar/2024-coronado-island-film-festival/
CATEGORIES:California,Film Festival Calendar,USA
END:VEVENT
BEGIN:VEVENT
DTSTART;VALUE=DATE:20241106
DTEND;VALUE=DATE:20241107
DTSTAMP:20260421T223530
CREATED:20241024T112204Z
LAST-MODIFIED:20241024T112204Z
UID:138339-1730851200-1730937599@vimooz.com
SUMMARY:Pedro Páramo (Netflix)
DESCRIPTION:Read more
URL:https://vimooz.com/calendar/pedro-paramo-netflix/
CATEGORIES:Film Release Calendar
ATTACH;FMTTYPE=image/jpeg:https://images.vimooz.com/wp-content/uploads/2024/10/18215033/Pedro_Paramo-scaled.jpg
END:VEVENT
BEGIN:VEVENT
DTSTART;VALUE=DATE:20241103
DTEND;VALUE=DATE:20241108
DTSTAMP:20260421T223530
CREATED:20241115T114735Z
LAST-MODIFIED:20241115T114735Z
UID:139295-1730592000-1731023999@vimooz.com
SUMMARY:4th Bahrain Film Festival
DESCRIPTION:Read more
URL:https://vimooz.com/calendar/4th-bahrain-film-festival/
CATEGORIES:Film Festival Calendar
END:VEVENT
BEGIN:VEVENT
DTSTART;VALUE=DATE:20241101
DTEND;VALUE=DATE:20241118
DTSTAMP:20260421T223530
CREATED:20241025T200230Z
LAST-MODIFIED:20241025T200230Z
UID:138558-1730419200-1731887999@vimooz.com
SUMMARY:38th Leeds International Film Festival (LIFF)
DESCRIPTION:Read more
URL:https://vimooz.com/calendar/38th-leeds-international-film-festival-liff/
CATEGORIES:Film Festival Calendar
END:VEVENT
BEGIN:VEVENT
DTSTART;VALUE=DATE:20241101
DTEND;VALUE=DATE:20241111
DTSTAMP:20260421T223530
CREATED:20241029T182122Z
LAST-MODIFIED:20241029T182122Z
UID:138806-1730419200-1731283199@vimooz.com
SUMMARY:47th Denver Film Festival (DFF47)
DESCRIPTION:Read more
URL:https://vimooz.com/calendar/47th-denver-film-festival-dff47/
CATEGORIES:Film Festival Calendar
END:VEVENT
BEGIN:VEVENT
DTSTART;VALUE=DATE:20241101
DTEND;VALUE=DATE:20241109
DTSTAMP:20260421T223530
CREATED:20241029T182131Z
LAST-MODIFIED:20241029T182131Z
UID:138804-1730419200-1731110399@vimooz.com
SUMMARY:30th Minsk International Film Festival "Listapad"
DESCRIPTION:Read more
URL:https://vimooz.com/calendar/30th-minsk-international-film-festival-listapad/
CATEGORIES:Film Festival Calendar
END:VEVENT
BEGIN:VEVENT
DTSTART;VALUE=DATE:20241101
DTEND;VALUE=DATE:20241104
DTSTAMP:20260421T223530
CREATED:20241025T200647Z
LAST-MODIFIED:20241025T200647Z
UID:138452-1730419200-1730678399@vimooz.com
SUMMARY:6th Billy the Kid Film Festival (BTKFF)
DESCRIPTION:Read more
URL:https://vimooz.com/calendar/6th-billy-the-kid-film-festival-btkff/
CATEGORIES:Film Festival Calendar
END:VEVENT
BEGIN:VEVENT
DTSTART;VALUE=DATE:20241101
DTEND;VALUE=DATE:20241104
DTSTAMP:20260421T223530
CREATED:20241025T200257Z
LAST-MODIFIED:20241025T200257Z
UID:138551-1730419200-1730678399@vimooz.com
SUMMARY:14th GuadaLAjara Film Festival in Los Angeles (GLAFF)
DESCRIPTION:Read more
URL:https://vimooz.com/calendar/14th-guadalajara-film-festival-in-los-angeles-glaff/
CATEGORIES:Film Festival Calendar
END:VEVENT
BEGIN:VEVENT
DTSTART;VALUE=DATE:20241101
DTEND;VALUE=DATE:20241102
DTSTAMP:20260421T223530
CREATED:20241022T133926Z
LAST-MODIFIED:20241022T133926Z
UID:137425-1730419200-1730505599@vimooz.com
SUMMARY:Conclave (in Theaters)
DESCRIPTION:Read more
URL:https://vimooz.com/calendar/conclave-in-theaters-2/
CATEGORIES:Film Release Calendar
ATTACH;FMTTYPE=image/jpeg:https://images.vimooz.com/wp-content/uploads/2024/08/26183617/conclave.jpg
END:VEVENT
BEGIN:VEVENT
DTSTART;VALUE=DATE:20241101
DTEND;VALUE=DATE:20241102
DTSTAMP:20260421T223530
CREATED:20241022T133912Z
LAST-MODIFIED:20241022T133912Z
UID:138056-1730419200-1730505599@vimooz.com
SUMMARY:Music by John Williams (in Theaters)
DESCRIPTION:Read more
URL:https://vimooz.com/calendar/music-by-john-williams-in-theaters/
CATEGORIES:Film Release Calendar
ATTACH;FMTTYPE=image/jpeg:https://images.vimooz.com/wp-content/uploads/2024/10/02103525/Music-by-John-Williams.jpg
END:VEVENT
BEGIN:VEVENT
DTSTART;VALUE=DATE:20241101
DTEND;VALUE=DATE:20241102
DTSTAMP:20260421T223530
CREATED:20241022T133903Z
LAST-MODIFIED:20241022T133903Z
UID:138058-1730419200-1730505599@vimooz.com
SUMMARY:Music by John Williams (Disney+)
DESCRIPTION:Read more
URL:https://vimooz.com/calendar/music-by-john-williams-disney/
CATEGORIES:Film Release Calendar
ATTACH;FMTTYPE=image/jpeg:https://images.vimooz.com/wp-content/uploads/2024/10/02103525/Music-by-John-Williams.jpg
END:VEVENT
BEGIN:VEVENT
DTSTART;VALUE=DATE:20241101
DTEND;VALUE=DATE:20241102
DTSTAMP:20260421T223530
CREATED:20241022T133829Z
LAST-MODIFIED:20241022T133829Z
UID:138064-1730419200-1730505599@vimooz.com
SUMMARY:The Graduates (in Theaters)
DESCRIPTION:Read more
URL:https://vimooz.com/calendar/the-graduates-in-theaters/
CATEGORIES:Film Release Calendar
ATTACH;FMTTYPE=image/jpeg:https://images.vimooz.com/wp-content/uploads/2024/10/04083850/The-Graduates.jpg
END:VEVENT
BEGIN:VEVENT
DTSTART;VALUE=DATE:20241101
DTEND;VALUE=DATE:20241102
DTSTAMP:20260421T223530
CREATED:20241022T133633Z
LAST-MODIFIED:20241022T133633Z
UID:138079-1730419200-1730505599@vimooz.com
SUMMARY:Lost on a Mountain in Maine (in Theaters)
DESCRIPTION:Read more
URL:https://vimooz.com/calendar/lost-on-a-mountain-in-maine-in-theaters/
CATEGORIES:Film Release Calendar
ATTACH;FMTTYPE=image/jpeg:https://images.vimooz.com/wp-content/uploads/2024/10/09070132/lost-on-a-mountain-in-maine_Luke-David-Blumm.jpg
END:VEVENT
BEGIN:VEVENT
DTSTART;VALUE=DATE:20241101
DTEND;VALUE=DATE:20241102
DTSTAMP:20260421T223530
CREATED:20241022T133530Z
LAST-MODIFIED:20241022T133530Z
UID:138089-1730419200-1730505599@vimooz.com
SUMMARY:The Gutter (in Theaters - US)
DESCRIPTION:Read more
URL:https://vimooz.com/calendar/the-gutter-in-theaters-us/
CATEGORIES:Film Release Calendar
ATTACH;FMTTYPE=image/jpeg:https://images.vimooz.com/wp-content/uploads/2024/10/11094504/the-gutter.jpg
END:VEVENT
BEGIN:VEVENT
DTSTART;VALUE=DATE:20241101
DTEND;VALUE=DATE:20241102
DTSTAMP:20260421T223530
CREATED:20241022T133524Z
LAST-MODIFIED:20241022T133524Z
UID:138091-1730419200-1730505599@vimooz.com
SUMMARY:The Gutter (VOD)
DESCRIPTION:Read more
URL:https://vimooz.com/calendar/the-gutter-vod/
CATEGORIES:Film Release Calendar
ATTACH;FMTTYPE=image/jpeg:https://images.vimooz.com/wp-content/uploads/2024/10/11094504/the-gutter.jpg
END:VEVENT
BEGIN:VEVENT
DTSTART;VALUE=DATE:20241101
DTEND;VALUE=DATE:20241102
DTSTAMP:20260421T223530
CREATED:20241007T172104Z
LAST-MODIFIED:20241007T172104Z
UID:137131-1730419200-1730505599@vimooz.com
SUMMARY:Small Things Like These (in Theaters - UK & Ireland)
DESCRIPTION:Read more
URL:https://vimooz.com/calendar/small-things-like-these-in-theaters-uk-ireland/
CATEGORIES:Film Release Calendar
ATTACH;FMTTYPE=image/jpeg:https://images.vimooz.com/wp-content/uploads/2024/09/18151837/small-things-like-these.jpg
END:VEVENT
END:VCALENDAR