BEGIN:VCALENDAR
VERSION:2.0
PRODID:-//VIMooZ - ECPv6.15.20//NONSGML v1.0//EN
CALSCALE:GREGORIAN
METHOD:PUBLISH
X-ORIGINAL-URL:https://vimooz.com
X-WR-CALDESC:Events for VIMooZ
REFRESH-INTERVAL;VALUE=DURATION:PT1H
X-Robots-Tag:noindex
X-PUBLISHED-TTL:PT1H
BEGIN:VTIMEZONE
TZID:America/New_York
BEGIN:DAYLIGHT
TZOFFSETFROM:-0500
TZOFFSETTO:-0400
TZNAME:EDT
DTSTART:20230312T070000
END:DAYLIGHT
BEGIN:STANDARD
TZOFFSETFROM:-0400
TZOFFSETTO:-0500
TZNAME:EST
DTSTART:20231105T060000
END:STANDARD
BEGIN:DAYLIGHT
TZOFFSETFROM:-0500
TZOFFSETTO:-0400
TZNAME:EDT
DTSTART:20240310T070000
END:DAYLIGHT
BEGIN:STANDARD
TZOFFSETFROM:-0400
TZOFFSETTO:-0500
TZNAME:EST
DTSTART:20241103T060000
END:STANDARD
BEGIN:DAYLIGHT
TZOFFSETFROM:-0500
TZOFFSETTO:-0400
TZNAME:EDT
DTSTART:20250309T070000
END:DAYLIGHT
BEGIN:STANDARD
TZOFFSETFROM:-0400
TZOFFSETTO:-0500
TZNAME:EST
DTSTART:20251102T060000
END:STANDARD
END:VTIMEZONE
BEGIN:VEVENT
DTSTART;VALUE=DATE:20240531
DTEND;VALUE=DATE:20240601
DTSTAMP:20260422T101637
CREATED:20240530T015636Z
LAST-MODIFIED:20240530T015636Z
UID:128499-1717113600-1717199999@vimooz.com
SUMMARY:Handling The Undead (in Theaters)
DESCRIPTION:Read more
URL:https://vimooz.com/calendar/handling-the-undead-in-theaters/
CATEGORIES:Film Release Calendar
ATTACH;FMTTYPE=image/jpeg:https://images.vimooz.com/wp-content/uploads/2024/05/15153851/Handling_the_Undead.jpg
END:VEVENT
BEGIN:VEVENT
DTSTART;VALUE=DATE:20240531
DTEND;VALUE=DATE:20240601
DTSTAMP:20260422T101637
CREATED:20240530T015245Z
LAST-MODIFIED:20240530T015245Z
UID:129088-1717113600-1717199999@vimooz.com
SUMMARY:The Dead Don’t Hurt (in Theaters)
DESCRIPTION:Read more
URL:https://vimooz.com/calendar/the-dead-dont-hurt-in-theaters/
CATEGORIES:Film Release Calendar
ATTACH;FMTTYPE=image/jpeg:https://images.vimooz.com/wp-content/uploads/2024/05/27130032/The-Dead-Dont-Hurt-1.jpg
END:VEVENT
BEGIN:VEVENT
DTSTART;VALUE=DATE:20240531
DTEND;VALUE=DATE:20240601
DTSTAMP:20260422T101637
CREATED:20240512T020330Z
LAST-MODIFIED:20240512T020330Z
UID:127872-1717113600-1717199999@vimooz.com
SUMMARY:Summer Camp (in Theaters)
DESCRIPTION:Read more
URL:https://vimooz.com/calendar/summer-camp-in-theaters/
CATEGORIES:Film Release Calendar
ATTACH;FMTTYPE=image/jpeg:https://images.vimooz.com/wp-content/uploads/2024/04/26222035/Summer-Camp.jpg
END:VEVENT
BEGIN:VEVENT
DTSTART;VALUE=DATE:20240531
DTEND;VALUE=DATE:20240601
DTSTAMP:20260422T101637
CREATED:20240512T020326Z
LAST-MODIFIED:20240512T020326Z
UID:127874-1717113600-1717199999@vimooz.com
SUMMARY:Jim Henson Idea Man (in Theaters)
DESCRIPTION:Read more
URL:https://vimooz.com/calendar/jim-henson-idea-man-in-theaters/
CATEGORIES:Film Release Calendar
ATTACH;FMTTYPE=image/jpeg:https://images.vimooz.com/wp-content/uploads/2024/04/26215851/Jim-Henson-Idea-Man.jpg
END:VEVENT
BEGIN:VEVENT
DTSTART;VALUE=DATE:20240531
DTEND;VALUE=DATE:20240601
DTSTAMP:20260422T101637
CREATED:20240424T022744Z
LAST-MODIFIED:20240424T022744Z
UID:126935-1717113600-1717199999@vimooz.com
SUMMARY:What You Wish For (in Theaters\, VOD)
DESCRIPTION:Read more
URL:https://vimooz.com/calendar/what-you-wish-for-in-theaters-vod/
CATEGORIES:Film Release Calendar
ATTACH;FMTTYPE=image/jpeg:https://images.vimooz.com/wp-content/uploads/2024/04/18152337/What-You-Wish-For.jpg
END:VEVENT
BEGIN:VEVENT
DTSTART;VALUE=DATE:20240530
DTEND;VALUE=DATE:20240610
DTSTAMP:20260422T101637
CREATED:20240808T025110Z
LAST-MODIFIED:20240808T025110Z
UID:129273-1717027200-1717977599@vimooz.com
SUMMARY:14th Art of Brooklyn Film Festival
DESCRIPTION:Read more
URL:https://vimooz.com/calendar/14th-art-of-brooklyn-film-festival/
CATEGORIES:Film Festival Calendar,New York,USA
END:VEVENT
BEGIN:VEVENT
DTSTART;VALUE=DATE:20240530
DTEND;VALUE=DATE:20240610
DTSTAMP:20260422T101637
CREATED:20240512T020549Z
LAST-MODIFIED:20240512T020549Z
UID:127797-1717027200-1717977599@vimooz.com
SUMMARY:23rd San Francisco Documentary Film Festival (SF DocFest)
DESCRIPTION:Read more
URL:https://vimooz.com/calendar/23rd-san-francisco-documentary-film-festival-sf-docfest/
CATEGORIES:California,Film Festival Calendar,USA
END:VEVENT
BEGIN:VEVENT
DTSTART;VALUE=DATE:20240530
DTEND;VALUE=DATE:20240610
DTSTAMP:20260422T101637
CREATED:20240412T153043Z
LAST-MODIFIED:20240412T153043Z
UID:126002-1717027200-1717977599@vimooz.com
SUMMARY:32nd Toronto Jewish Film Festival
DESCRIPTION:Read more
URL:https://vimooz.com/calendar/32nd-toronto-jewish-film-festival/
CATEGORIES:Canada,Film Festival Calendar
END:VEVENT
BEGIN:VEVENT
DTSTART;VALUE=DATE:20240529
DTEND;VALUE=DATE:20240530
DTSTAMP:20260422T101637
CREATED:20240530T015538Z
LAST-MODIFIED:20240530T015538Z
UID:128582-1716940800-1717027199@vimooz.com
SUMMARY:MoviePass\, MovieCrash (HBO\, MAX)
DESCRIPTION:Read more
URL:https://vimooz.com/calendar/moviepass-moviecrash-hbo-max/
CATEGORIES:Film Release Calendar
ATTACH;FMTTYPE=image/jpeg:https://images.vimooz.com/wp-content/uploads/2024/05/17070944/Movie-Pass-Movie-Crash.jpg
END:VEVENT
BEGIN:VEVENT
DTSTART;VALUE=DATE:20240528
DTEND;VALUE=DATE:20240529
DTSTAMP:20260422T101637
CREATED:20240530T015807Z
LAST-MODIFIED:20240530T015807Z
UID:128379-1716854400-1716940799@vimooz.com
SUMMARY:Maestra (in Theaters)
DESCRIPTION:Read more
URL:https://vimooz.com/calendar/maestra-in-theaters/
CATEGORIES:Film Release Calendar
ATTACH;FMTTYPE=image/jpeg:https://images.vimooz.com/wp-content/uploads/2024/05/08153438/Maestra.jpg
END:VEVENT
BEGIN:VEVENT
DTSTART;VALUE=DATE:20240527
DTEND;VALUE=DATE:20240528
DTSTAMP:20260422T101637
CREATED:20240512T020319Z
LAST-MODIFIED:20240512T020319Z
UID:127876-1716768000-1716854399@vimooz.com
SUMMARY:Fallen Idols: Nick and Aaron Carter (Max)
DESCRIPTION:Read more
URL:https://vimooz.com/calendar/fallen-idols-nick-and-aaron-carter-max/
CATEGORIES:Film Release Calendar
ATTACH;FMTTYPE=image/jpeg:https://images.vimooz.com/wp-content/uploads/2024/04/25230659/Fallen-Idols-Nick-and-Aaron-Carter.jpg
END:VEVENT
BEGIN:VEVENT
DTSTART;VALUE=DATE:20240526
DTEND;VALUE=DATE:20240603
DTSTAMP:20260422T101637
CREATED:20240122T030013Z
LAST-MODIFIED:20240122T030013Z
UID:122262-1716681600-1717372799@vimooz.com
SUMMARY:64th Krakow Film Festival
DESCRIPTION:Read more
URL:https://vimooz.com/calendar/64th-krakow-film-festival/
CATEGORIES:Europe,Film Festival Calendar,Poland
END:VEVENT
BEGIN:VEVENT
DTSTART;VALUE=DATE:20240524
DTEND;VALUE=DATE:20240525
DTSTAMP:20260422T101637
CREATED:20240530T015552Z
LAST-MODIFIED:20240530T015552Z
UID:128496-1716508800-1716595199@vimooz.com
SUMMARY:Kidnapped: The Abduction of Edgardo Mortara (in Theaters)
DESCRIPTION:Read more
URL:https://vimooz.com/calendar/kidnapped-the-abduction-of-edgardo-mortara-in-theaters/
CATEGORIES:Film Release Calendar
ATTACH;FMTTYPE=image/jpeg:https://images.vimooz.com/wp-content/uploads/2024/05/15145512/Kidnapped-The-Abduction-of-Edgardo-Mortara.jpg
END:VEVENT
BEGIN:VEVENT
DTSTART;VALUE=DATE:20240523
DTEND;VALUE=DATE:20240528
DTSTAMP:20260422T101637
CREATED:20240427T161520Z
LAST-MODIFIED:20240427T161520Z
UID:127187-1716422400-1716854399@vimooz.com
SUMMARY:46th Mountainfilm
DESCRIPTION:Read more
URL:https://vimooz.com/calendar/46th-mountainfilm/
CATEGORIES:Film Festival Calendar,New York,USA
END:VEVENT
BEGIN:VEVENT
DTSTART;VALUE=DATE:20240522
DTEND;VALUE=DATE:20240527
DTSTAMP:20260422T101637
CREATED:20240808T025018Z
LAST-MODIFIED:20240808T025018Z
UID:129266-1716336000-1716767999@vimooz.com
SUMMARY:10th Mammoth Lakes Film Festival
DESCRIPTION:Read more
URL:https://vimooz.com/calendar/10th-mammoth-lakes-film-festival-2/
CATEGORIES:California,Film Festival Calendar,USA
END:VEVENT
BEGIN:VEVENT
DTSTART;VALUE=DATE:20240522
DTEND;VALUE=DATE:20240525
DTSTAMP:20260422T101637
CREATED:20230531T114906Z
LAST-MODIFIED:20230813T215447Z
UID:114346-1716336000-1716595199@vimooz.com
SUMMARY:10th Mammoth Lakes Film Festival
DESCRIPTION:Read more
URL:https://vimooz.com/calendar/10th-mammoth-lakes-film-festival/
CATEGORIES:California,Film Festival Calendar,USA
END:VEVENT
BEGIN:VEVENT
DTSTART;VALUE=DATE:20240521
DTEND;VALUE=DATE:20240522
DTSTAMP:20260422T101637
CREATED:20240530T015742Z
LAST-MODIFIED:20240530T015742Z
UID:128389-1716249600-1716335999@vimooz.com
SUMMARY:Lolla: The Story of Lollapalooza (Paramount+)
DESCRIPTION:Read more
URL:https://vimooz.com/calendar/lolla-the-story-of-lollapalooza-paramount-2/
CATEGORIES:Film Release Calendar
ATTACH;FMTTYPE=image/jpeg:https://images.vimooz.com/wp-content/uploads/2024/05/06224218/Lolla-The-Story-of-Lollapalooza.jpg
END:VEVENT
BEGIN:VEVENT
DTSTART;VALUE=DATE:20240521
DTEND;VALUE=DATE:20240522
DTSTAMP:20260422T101637
CREATED:20240407T103633Z
LAST-MODIFIED:20240512T020542Z
UID:127856-1716249600-1716335999@vimooz.com
SUMMARY:Lolla: The Story of Lollapalooza (Paramount+)
DESCRIPTION:Read more
URL:https://vimooz.com/calendar/lolla-the-story-of-lollapalooza-paramount/
CATEGORIES:Film Release Calendar
ATTACH;FMTTYPE=image/jpeg:https://images.vimooz.com/wp-content/uploads/2024/05/06224218/Lolla-The-Story-of-Lollapalooza.jpg
END:VEVENT
BEGIN:VEVENT
DTSTART;VALUE=DATE:20240517
DTEND;VALUE=DATE:20240518
DTSTAMP:20260422T101637
CREATED:20240530T020052Z
LAST-MODIFIED:20240530T020052Z
UID:128355-1715904000-1715990399@vimooz.com
SUMMARY:Back to Black (in Theaters)
DESCRIPTION:Read more
URL:https://vimooz.com/calendar/back-to-black-in-theaters/
CATEGORIES:Film Release Calendar
ATTACH;FMTTYPE=image/jpeg:https://images.vimooz.com/wp-content/uploads/2024/05/11164036/back-to-black.jpg
END:VEVENT
BEGIN:VEVENT
DTSTART;VALUE=DATE:20240517
DTEND;VALUE=DATE:20240518
DTSTAMP:20260422T101637
CREATED:20240512T020255Z
LAST-MODIFIED:20240512T020255Z
UID:127887-1715904000-1715990399@vimooz.com
SUMMARY:Power (Netflix)
DESCRIPTION:Read more
URL:https://vimooz.com/calendar/power-netflix/
CATEGORIES:Film Release Calendar
ATTACH;FMTTYPE=image/jpeg:https://images.vimooz.com/wp-content/uploads/2024/04/25091547/Power-Yance-Ford.jpeg
END:VEVENT
BEGIN:VEVENT
DTSTART;VALUE=DATE:20240517
DTEND;VALUE=DATE:20240518
DTSTAMP:20260422T101637
CREATED:20240424T022752Z
LAST-MODIFIED:20240424T022752Z
UID:126933-1715904000-1715990399@vimooz.com
SUMMARY:You Can’t Run Forever (in Theaters)
DESCRIPTION:Read more
URL:https://vimooz.com/calendar/you-cant-run-forever-in-theaters/
CATEGORIES:Film Release Calendar
ATTACH;FMTTYPE=image/jpeg:https://images.vimooz.com/wp-content/uploads/2024/04/17152332/you-cant-run-forever.jpg
END:VEVENT
BEGIN:VEVENT
DTSTART;VALUE=DATE:20240517
DTEND;VALUE=DATE:20240518
DTSTAMP:20260422T101637
CREATED:20240406T144540Z
LAST-MODIFIED:20240406T144540Z
UID:125533-1715904000-1715990399@vimooz.com
SUMMARY:Mourning in Lod (Paramount+)
DESCRIPTION:Read more
URL:https://vimooz.com/calendar/mourning-in-lod-paramount/
CATEGORIES:Film Release Calendar
ATTACH;FMTTYPE=image/jpeg:https://images.vimooz.com/wp-content/uploads/2024/03/27082004/Mourning-in-Lod.jpg
END:VEVENT
BEGIN:VEVENT
DTSTART;VALUE=DATE:20240516
DTEND;VALUE=DATE:20240527
DTSTAMP:20260422T101637
CREATED:20240530T015521Z
LAST-MODIFIED:20240530T015521Z
UID:128642-1715817600-1716767999@vimooz.com
SUMMARY:19th Harlem Intl Film Festival
DESCRIPTION:Read more
URL:https://vimooz.com/calendar/19th-harlem-intl-film-festival/
CATEGORIES:Film Festival Calendar,New York,USA
END:VEVENT
BEGIN:VEVENT
DTSTART;VALUE=DATE:20240516
DTEND;VALUE=DATE:20240526
DTSTAMP:20260422T101637
CREATED:20240412T152804Z
LAST-MODIFIED:20240412T152804Z
UID:126094-1715817600-1716681599@vimooz.com
SUMMARY:19th Harlem International Film Festival
DESCRIPTION:Read more
URL:https://vimooz.com/calendar/19th-harlem-international-film-festival/
CATEGORIES:Film Festival Calendar,New York,USA
END:VEVENT
BEGIN:VEVENT
DTSTART;VALUE=DATE:20240515
DTEND;VALUE=DATE:20240526
DTSTAMP:20260422T101637
CREATED:20240419T151949Z
LAST-MODIFIED:20240419T151949Z
UID:126505-1715731200-1716681599@vimooz.com
SUMMARY:56th Directors’ Fortnight
DESCRIPTION:Read more
URL:https://vimooz.com/calendar/56th-directors-fortnight/
CATEGORIES:Film Festival Calendar,France
END:VEVENT
BEGIN:VEVENT
DTSTART;VALUE=DATE:20240515
DTEND;VALUE=DATE:20240524
DTSTAMP:20260422T101637
CREATED:20240419T151956Z
LAST-MODIFIED:20240419T151956Z
UID:126443-1715731200-1716508799@vimooz.com
SUMMARY:63rd Cannes Critics' Week (Semaine de la Critique)
DESCRIPTION:Read more
URL:https://vimooz.com/calendar/63rd-cannes-critics-week-semaine-de-la-critique/
CATEGORIES:Film Festival Calendar,France
END:VEVENT
BEGIN:VEVENT
DTSTART;VALUE=DATE:20240515
DTEND;VALUE=DATE:20240520
DTSTAMP:20260422T101637
CREATED:20240424T022826Z
LAST-MODIFIED:20240424T022826Z
UID:126913-1715731200-1716163199@vimooz.com
SUMMARY:21st Archaeology Channel International Film Festival
DESCRIPTION:Read more
URL:https://vimooz.com/calendar/21st-archaeology-channel-international-film-festival/
CATEGORIES:Film Festival Calendar,Oregon,USA
END:VEVENT
BEGIN:VEVENT
DTSTART;VALUE=DATE:20240515
DTEND;VALUE=DATE:20240516
DTSTAMP:20260422T101637
CREATED:20240512T020503Z
LAST-MODIFIED:20240512T020503Z
UID:127862-1715731200-1715817599@vimooz.com
SUMMARY:Ashley Madison: Sex\, Lies & Scandal (Netflix)
DESCRIPTION:Read more
URL:https://vimooz.com/calendar/ashley-madison-sex-lies-scandal-netflix/
CATEGORIES:Film Release Calendar
ATTACH;FMTTYPE=image/jpeg:https://images.vimooz.com/wp-content/uploads/2024/05/04091538/Ashley-Madison-Sex-Lies-Scandal.jpg
END:VEVENT
BEGIN:VEVENT
DTSTART;VALUE=DATE:20240514
DTEND;VALUE=DATE:20240526
DTSTAMP:20260422T101637
CREATED:20240201T142433Z
LAST-MODIFIED:20240306T040541Z
UID:123847-1715644800-1716681599@vimooz.com
SUMMARY:77th Cannes Film Festival
DESCRIPTION:Read more
URL:https://vimooz.com/calendar/77th-cannes-film-festival-2/
CATEGORIES:Europe,Film Festival Calendar,France
END:VEVENT
BEGIN:VEVENT
DTSTART;VALUE=DATE:20240510
DTEND;VALUE=DATE:20240511
DTSTAMP:20260422T101637
CREATED:20240512T020305Z
LAST-MODIFIED:20240512T020305Z
UID:127884-1715299200-1715385599@vimooz.com
SUMMARY:H4Z4RD (in Theaters)
DESCRIPTION:Read more
URL:https://vimooz.com/calendar/h4z4rd-in-theaters/
CATEGORIES:Film Release Calendar
ATTACH;FMTTYPE=image/jpeg:https://images.vimooz.com/wp-content/uploads/2024/04/25134232/H4z4rd_Hazard.jpeg
END:VEVENT
END:VCALENDAR