BEGIN:VCALENDAR
VERSION:2.0
PRODID:-//VIMooZ - ECPv6.15.20//NONSGML v1.0//EN
CALSCALE:GREGORIAN
METHOD:PUBLISH
X-ORIGINAL-URL:https://vimooz.com
X-WR-CALDESC:Events for VIMooZ
REFRESH-INTERVAL;VALUE=DURATION:PT1H
X-Robots-Tag:noindex
X-PUBLISHED-TTL:PT1H
BEGIN:VTIMEZONE
TZID:America/New_York
BEGIN:DAYLIGHT
TZOFFSETFROM:-0500
TZOFFSETTO:-0400
TZNAME:EDT
DTSTART:20240310T070000
END:DAYLIGHT
BEGIN:STANDARD
TZOFFSETFROM:-0400
TZOFFSETTO:-0500
TZNAME:EST
DTSTART:20241103T060000
END:STANDARD
BEGIN:DAYLIGHT
TZOFFSETFROM:-0500
TZOFFSETTO:-0400
TZNAME:EDT
DTSTART:20250309T070000
END:DAYLIGHT
BEGIN:STANDARD
TZOFFSETFROM:-0400
TZOFFSETTO:-0500
TZNAME:EST
DTSTART:20251102T060000
END:STANDARD
BEGIN:DAYLIGHT
TZOFFSETFROM:-0500
TZOFFSETTO:-0400
TZNAME:EDT
DTSTART:20260308T070000
END:DAYLIGHT
BEGIN:STANDARD
TZOFFSETFROM:-0400
TZOFFSETTO:-0500
TZNAME:EST
DTSTART:20261101T060000
END:STANDARD
END:VTIMEZONE
BEGIN:VEVENT
DTSTART;TZID=America/New_York:20251202T000000
DTEND;TZID=America/New_York:20251202T235959
DTSTAMP:20260421T073315
CREATED:20251126T201744Z
LAST-MODIFIED:20251126T202030Z
UID:154214-1764633600-1764719999@vimooz.com
SUMMARY:Sean Combs: The Reckoning (Netflix)
DESCRIPTION:Read more
URL:https://vimooz.com/calendar/sean-combs-the-reckoning-netflix/
CATEGORIES:Film Release Calendar
ATTACH;FMTTYPE=image/jpeg:https://images.vimooz.com/wp-content/uploads/2025/11/25220300/Sean-Combs_Depositphotos_609400606_XL.jpg
END:VEVENT
BEGIN:VEVENT
DTSTART;TZID=America/New_York:20251201T000000
DTEND;TZID=America/New_York:20251201T235959
DTSTAMP:20260421T073315
CREATED:20251129T132545Z
LAST-MODIFIED:20251129T132545Z
UID:154308-1764547200-1764633599@vimooz.com
SUMMARY:The Merchants of Joy (Prime)
DESCRIPTION:Read more
URL:https://vimooz.com/calendar/the-merchants-of-joy-prime/
CATEGORIES:Film Release Calendar
ATTACH;FMTTYPE=image/jpeg:https://images.vimooz.com/wp-content/uploads/2025/11/14134244/The-Merchants-of-Joy-.jpg
END:VEVENT
BEGIN:VEVENT
DTSTART;TZID=America/New_York:20251201T000000
DTEND;TZID=America/New_York:20251201T235959
DTSTAMP:20260421T073315
CREATED:20251129T132251Z
LAST-MODIFIED:20251129T132251Z
UID:154302-1764547200-1764633599@vimooz.com
SUMMARY:All the Empty Rooms (Netflix)
DESCRIPTION:Read more
URL:https://vimooz.com/calendar/all-the-empty-rooms-netflix/
CATEGORIES:Film Release Calendar
ATTACH;FMTTYPE=image/jpeg:https://images.vimooz.com/wp-content/uploads/2025/11/15181356/All-The-Empty-Rooms-.jpg
END:VEVENT
BEGIN:VEVENT
DTSTART;TZID=America/New_York:20251128T000000
DTEND;TZID=America/New_York:20251214T235959
DTSTAMP:20260421T073315
CREATED:20251124T115444Z
LAST-MODIFIED:20251124T115444Z
UID:154104-1764288000-1765756799@vimooz.com
SUMMARY:33rd African Diaspora International Film Festival
DESCRIPTION:Read more
URL:https://vimooz.com/calendar/33rd-african-diaspora-international-film-festival/
CATEGORIES:Film Festival Calendar,USA
END:VEVENT
BEGIN:VEVENT
DTSTART;TZID=America/New_York:20251128T000000
DTEND;TZID=America/New_York:20251206T235959
DTSTAMP:20260421T073315
CREATED:20251126T201103Z
LAST-MODIFIED:20251126T201103Z
UID:154209-1764288000-1765065599@vimooz.com
SUMMARY:22nd Marrakech International Film Festival
DESCRIPTION:Read more
URL:https://vimooz.com/calendar/22nd-marrakech-international-film-festival/
CATEGORIES:Africa,Film Festival Calendar
END:VEVENT
BEGIN:VEVENT
DTSTART;TZID=America/New_York:20251126T000000
DTEND;TZID=America/New_York:20251207T235959
DTSTAMP:20260421T073315
CREATED:20251201T115532Z
LAST-MODIFIED:20251201T115532Z
UID:154375-1764115200-1765151999@vimooz.com
SUMMARY:36th Singapore International Film Festival
DESCRIPTION:Read more
URL:https://vimooz.com/calendar/36th-singapore-international-film-festival/
CATEGORIES:Film Festival Calendar,Singapore
END:VEVENT
BEGIN:VEVENT
DTSTART;TZID=America/New_York:20251126T000000
DTEND;TZID=America/New_York:20251126T235959
DTSTAMP:20260421T073315
CREATED:20251127T160039Z
LAST-MODIFIED:20251127T160039Z
UID:154260-1764115200-1764201599@vimooz.com
SUMMARY:Teenage Wasteland (in Theaters)
DESCRIPTION:Read more
URL:https://vimooz.com/calendar/teenage-wasteland-in-theaters/
CATEGORIES:Film Release Calendar
ATTACH;FMTTYPE=image/jpeg:https://images.vimooz.com/wp-content/uploads/2025/11/24172308/Teenage-Wasteland.jpg
END:VEVENT
BEGIN:VEVENT
DTSTART;TZID=America/New_York:20251120T000000
DTEND;TZID=America/New_York:20251128T235959
DTSTAMP:20260421T073315
CREATED:20251124T115554Z
LAST-MODIFIED:20251124T115554Z
UID:154106-1763596800-1764374399@vimooz.com
SUMMARY:56th International Film Festival of India
DESCRIPTION:Read more
URL:https://vimooz.com/calendar/56th-international-film-festival-of-india/
CATEGORIES:Film Festival Calendar,India
END:VEVENT
BEGIN:VEVENT
DTSTART;TZID=America/New_York:20251119T000000
DTEND;TZID=America/New_York:20251123T235959
DTSTAMP:20260421T073315
CREATED:20251102T151757Z
LAST-MODIFIED:20251102T151757Z
UID:153358-1763510400-1763942399@vimooz.com
SUMMARY:13th CUFF.Docs Documentary Film Festival
DESCRIPTION:Read more
URL:https://vimooz.com/calendar/13th-cuff-docs-documentary-film-festival/
CATEGORIES:Film Festival Calendar,USA
END:VEVENT
BEGIN:VEVENT
DTSTART;TZID=America/New_York:20251115T000000
DTEND;TZID=America/New_York:20251123T235959
DTSTAMP:20260421T073315
CREATED:20251102T152224Z
LAST-MODIFIED:20251102T152224Z
UID:153366-1763164800-1763942399@vimooz.com
SUMMARY:33rd Camerimage International Film Festival
DESCRIPTION:Read more
URL:https://vimooz.com/calendar/33rd-camerimage-international-film-festival/
CATEGORIES:Europe,Film Festival Calendar
END:VEVENT
BEGIN:VEVENT
DTSTART;TZID=America/New_York:20251114T000000
DTEND;TZID=America/New_York:20251122T235959
DTSTAMP:20260421T073315
CREATED:20251102T152624Z
LAST-MODIFIED:20251102T152624Z
UID:153368-1763078400-1763855999@vimooz.com
SUMMARY:63rd Gijón/Xixón International Film Festival (FICX)
DESCRIPTION:Read more
URL:https://vimooz.com/calendar/63rd-gijon-xixon-international-film-festival-ficx/
CATEGORIES:Europe,Film Festival Calendar
END:VEVENT
BEGIN:VEVENT
DTSTART;TZID=America/New_York:20251113T000000
DTEND;TZID=America/New_York:20251123T235959
DTSTAMP:20260421T073315
CREATED:20251017T142626Z
LAST-MODIFIED:20251017T142626Z
UID:152785-1762992000-1763942399@vimooz.com
SUMMARY:38th International Documentary Film Festival Amsterdam (IDFA)
DESCRIPTION:Read more
URL:https://vimooz.com/calendar/38th-international-documentary-film-festival-amsterdam-idfa/
CATEGORIES:Europe,Film Festival Calendar
END:VEVENT
BEGIN:VEVENT
DTSTART;TZID=America/New_York:20251112T000000
DTEND;TZID=America/New_York:20251116T235959
DTSTAMP:20260421T073315
CREATED:20251008T112013Z
LAST-MODIFIED:20251008T112013Z
UID:152335-1762905600-1763337599@vimooz.com
SUMMARY:14th Key West Film Festival
DESCRIPTION:Read more
URL:https://vimooz.com/calendar/14th-key-west-film-festival/
CATEGORIES:Film Festival Calendar,USA
END:VEVENT
BEGIN:VEVENT
DTSTART;TZID=America/New_York:20251111T000000
DTEND;TZID=America/New_York:20251120T235959
DTSTAMP:20260421T073315
CREATED:20251102T151857Z
LAST-MODIFIED:20251102T151857Z
UID:153360-1762819200-1763683199@vimooz.com
SUMMARY:11th Asian World Film Festival
DESCRIPTION:Read more
URL:https://vimooz.com/calendar/11th-asian-world-film-festival/
CATEGORIES:Film Festival Calendar,USA
END:VEVENT
BEGIN:VEVENT
DTSTART;TZID=America/New_York:20251107T000000
DTEND;TZID=America/New_York:20251123T235959
DTSTAMP:20260421T073315
CREATED:20251017T142817Z
LAST-MODIFIED:20251017T142817Z
UID:152789-1762473600-1763942399@vimooz.com
SUMMARY:29th Tallinn Black Nights Film Festival
DESCRIPTION:Read more
URL:https://vimooz.com/calendar/29th-tallinn-black-nights-film-festival/
CATEGORIES:Europe,Film Festival Calendar
END:VEVENT
BEGIN:VEVENT
DTSTART;TZID=America/New_York:20251107T000000
DTEND;TZID=America/New_York:20251116T235959
DTSTAMP:20260421T073315
CREATED:20251109T122121Z
LAST-MODIFIED:20251109T122121Z
UID:153628-1762473600-1763337599@vimooz.com
SUMMARY:31st Black Harvest Film Festival
DESCRIPTION:Read more
URL:https://vimooz.com/calendar/31st-black-harvest-film-festival/
CATEGORIES:Film Festival Calendar,USA
END:VEVENT
BEGIN:VEVENT
DTSTART;TZID=America/New_York:20251105T000000
DTEND;TZID=America/New_York:20251116T235959
DTSTAMP:20260421T073315
CREATED:20251109T121642Z
LAST-MODIFIED:20251109T121642Z
UID:153622-1762300800-1763337599@vimooz.com
SUMMARY:36th Stockholm International Film Festival
DESCRIPTION:Read more
URL:https://vimooz.com/calendar/36th-stockholm-international-film-festival/
CATEGORIES:Europe,Film Festival Calendar
END:VEVENT
BEGIN:VEVENT
DTSTART;TZID=America/New_York:20251105T000000
DTEND;TZID=America/New_York:20251116T235959
DTSTAMP:20260421T073315
CREATED:20251102T151225Z
LAST-MODIFIED:20251102T151225Z
UID:153352-1762300800-1763337599@vimooz.com
SUMMARY:8th New York Baltic Film Festival
DESCRIPTION:Read more
URL:https://vimooz.com/calendar/8th-new-york-baltic-film-festival/
CATEGORIES:Film Festival Calendar,USA
END:VEVENT
BEGIN:VEVENT
DTSTART;TZID=America/New_York:20251105T000000
DTEND;TZID=America/New_York:20251109T235959
DTSTAMP:20260421T073315
CREATED:20251008T112325Z
LAST-MODIFIED:20251008T112325Z
UID:152337-1762300800-1762732799@vimooz.com
SUMMARY:10th Coronado Island Film Festival
DESCRIPTION:Read more
URL:https://vimooz.com/calendar/10th-coronado-island-film-festival/
CATEGORIES:Film Festival Calendar,USA
END:VEVENT
BEGIN:VEVENT
DTSTART;TZID=America/New_York:20251031T000000
DTEND;TZID=America/New_York:20251109T235959
DTSTAMP:20260421T073315
CREATED:20251008T111526Z
LAST-MODIFIED:20251008T111526Z
UID:152325-1761868800-1762732799@vimooz.com
SUMMARY:48th Denver Film Festival
DESCRIPTION:Read more
URL:https://vimooz.com/calendar/48th-denver-film-festival/
CATEGORIES:Film Festival Calendar,USA
END:VEVENT
BEGIN:VEVENT
DTSTART;TZID=America/New_York:20251031T000000
DTEND;TZID=America/New_York:20251102T235959
DTSTAMP:20260421T073315
CREATED:20251010T155332Z
LAST-MODIFIED:20251010T155332Z
UID:152483-1761868800-1762127999@vimooz.com
SUMMARY:19th Rockport Film Festival
DESCRIPTION:Read more
URL:https://vimooz.com/calendar/19th-rockport-film-festival/
CATEGORIES:Film Festival Calendar,USA
END:VEVENT
BEGIN:VEVENT
DTSTART;TZID=America/New_York:20251029T000000
DTEND;TZID=America/New_York:20251105T235959
DTSTAMP:20260421T073315
CREATED:20251004T115120Z
LAST-MODIFIED:20251004T115120Z
UID:152178-1761696000-1762387199@vimooz.com
SUMMARY:Miami Film Festival GEMS 2025
DESCRIPTION:Read more
URL:https://vimooz.com/calendar/miami-film-festival-gems-2025/
CATEGORIES:Film Festival Calendar,USA
END:VEVENT
BEGIN:VEVENT
DTSTART;TZID=America/New_York:20251028T000000
DTEND;TZID=America/New_York:20251103T235959
DTSTAMP:20260421T073315
CREATED:20251004T114150Z
LAST-MODIFIED:20251004T114150Z
UID:152162-1761609600-1762214399@vimooz.com
SUMMARY:29th The American French Film Festival
DESCRIPTION:Read more
URL:https://vimooz.com/calendar/29th-the-american-french-film-festival/
CATEGORIES:Film Festival Calendar,USA
END:VEVENT
BEGIN:VEVENT
DTSTART;TZID=America/New_York:20251027T000000
DTEND;TZID=America/New_York:20251105T235959
DTSTAMP:20260421T073315
CREATED:20251004T115222Z
LAST-MODIFIED:20251004T115222Z
UID:152180-1761523200-1762387199@vimooz.com
SUMMARY:38th Tokyo International Film Festival
DESCRIPTION:Read more
URL:https://vimooz.com/calendar/38th-tokyo-international-film-festival/
CATEGORIES:Film Festival Calendar
END:VEVENT
BEGIN:VEVENT
DTSTART;TZID=America/New_York:20251025T000000
DTEND;TZID=America/New_York:20251101T235959
DTSTAMP:20260421T073315
CREATED:20251008T111757Z
LAST-MODIFIED:20251008T111757Z
UID:152331-1761350400-1762041599@vimooz.com
SUMMARY:2025 SCAD Savannah Film Festival
DESCRIPTION:Read more
URL:https://vimooz.com/calendar/2025-scad-savannah-film-festival/
CATEGORIES:Film Festival Calendar,USA
END:VEVENT
BEGIN:VEVENT
DTSTART;TZID=America/New_York:20251024T000000
DTEND;TZID=America/New_York:20251030T235959
DTSTAMP:20260421T073315
CREATED:20251017T143313Z
LAST-MODIFIED:20251017T143313Z
UID:152795-1761264000-1761868799@vimooz.com
SUMMARY:2025 Green Film Festival of San Francisco
DESCRIPTION:Read more
URL:https://vimooz.com/calendar/2025-green-film-festival-of-san-francisco/
CATEGORIES:Film Festival Calendar,USA
END:VEVENT
BEGIN:VEVENT
DTSTART;TZID=America/New_York:20251023T000000
DTEND;TZID=America/New_York:20251030T235959
DTSTAMP:20260421T073315
CREATED:20251004T114103Z
LAST-MODIFIED:20251004T114103Z
UID:152160-1761177600-1761868799@vimooz.com
SUMMARY:32nd Austin Film Festival
DESCRIPTION:Read more
URL:https://vimooz.com/calendar/32nd-austin-film-festival/
CATEGORIES:Film Festival Calendar,USA
END:VEVENT
BEGIN:VEVENT
DTSTART;TZID=America/New_York:20251023T000000
DTEND;TZID=America/New_York:20251028T235959
DTSTAMP:20260421T073315
CREATED:20251010T160130Z
LAST-MODIFIED:20251010T160130Z
UID:152490-1761177600-1761695999@vimooz.com
SUMMARY:14th Dominican Film Festival in New York City (DFFNYC)
DESCRIPTION:Read more
URL:https://vimooz.com/calendar/14th-dominican-film-festival-in-new-york-city-dffnyc/
CATEGORIES:Film Festival Calendar,USA
END:VEVENT
BEGIN:VEVENT
DTSTART;TZID=America/New_York:20251023T000000
DTEND;TZID=America/New_York:20251027T235959
DTSTAMP:20260421T073315
CREATED:20251004T113501Z
LAST-MODIFIED:20251004T113501Z
UID:152146-1761177600-1761609599@vimooz.com
SUMMARY:36th New Orleans Film Festival
DESCRIPTION:Read more
URL:https://vimooz.com/calendar/36th-new-orleans-film-festival/
CATEGORIES:Film Festival Calendar,USA
END:VEVENT
BEGIN:VEVENT
DTSTART;TZID=America/New_York:20251023T000000
DTEND;TZID=America/New_York:20251026T235959
DTSTAMP:20260421T073315
CREATED:20251008T112421Z
LAST-MODIFIED:20251008T112421Z
UID:152339-1761177600-1761523199@vimooz.com
SUMMARY:7th Micheaux Film Festival
DESCRIPTION:Read more
URL:https://vimooz.com/calendar/7th-micheaux-film-festival/
CATEGORIES:Film Festival Calendar
END:VEVENT
END:VCALENDAR